BEGIN:VCALENDAR
VERSION:2.0
PRODID:-//Port Noarlunga Primary School - ECPv6.10.1.1//NONSGML v1.0//EN
CALSCALE:GREGORIAN
METHOD:PUBLISH
X-ORIGINAL-URL:https://www.portnoarps.sa.edu.au
X-WR-CALDESC:Events for Port Noarlunga Primary School
REFRESH-INTERVAL;VALUE=DURATION:PT1H
X-Robots-Tag:noindex
X-PUBLISHED-TTL:PT1H
BEGIN:VTIMEZONE
TZID:Australia/Adelaide
BEGIN:STANDARD
TZOFFSETFROM:+1030
TZOFFSETTO:+0930
TZNAME:ACST
DTSTART:20250405T163000
END:STANDARD
BEGIN:DAYLIGHT
TZOFFSETFROM:+0930
TZOFFSETTO:+1030
TZNAME:ACDT
DTSTART:20251004T163000
END:DAYLIGHT
END:VTIMEZONE
BEGIN:VEVENT
DTSTART;TZID=Australia/Adelaide:20250603T143000
DTEND;TZID=Australia/Adelaide:20250603T151000
DTSTAMP:20260423T054404
CREATED:20250505T030015Z
LAST-MODIFIED:20250505T030016Z
UID:242742-1748961000-1748963400@www.portnoarps.sa.edu.au
SUMMARY:Assembly
DESCRIPTION:Parents and Caregivers are invited to join our whole school assembly in the Gym from 2:30pm
URL:https://www.portnoarps.sa.edu.au/event/assembly-12/
END:VEVENT
BEGIN:VEVENT
DTSTART;TZID=Australia/Adelaide:20250605T160000
DTEND;TZID=Australia/Adelaide:20250605T180000
DTSTAMP:20260423T054404
CREATED:20250505T032628Z
LAST-MODIFIED:20250521T232056Z
UID:242752-1749139200-1749146400@www.portnoarps.sa.edu.au
SUMMARY:School Disco!
DESCRIPTION:The 2025 School Disco will be held on Thursday\, 5th of June. The following Friday is a Student Free Day. \n\n\n\nEntry is $2 and tickets must be purchased before Wednesday 4th June (the day before). NO TICKETS SOLD AT THE DOOR. \n\n\n\nR-2: 4pm -5pm \n\n\n\n3-6: 5pm-6pm \n\n\n\n🎉 Get ready to boogie at PNPS Disco 2025! 💃 We’re shaking things up this year with separate dance floors for different year levels – because everyone deserves their perfect groove space! 🌟 \n\n\n\nOur little dancers will have their own special time to shine and feel super comfy showing off their moves! ⭐️ Time to dust off those dancing shoes and mark your calendars! 🗓️ \n\n\n\nDon’t forget to secure your spot by June 4th ! 🎵Brought to you by the Wellbeing Leaders- Jack\, Eliot\, Josephine\, Cassie\, Savanna\, Zahli and Miley
URL:https://www.portnoarps.sa.edu.au/event/school-disco-2/
END:VEVENT
BEGIN:VEVENT
DTSTART;TZID=Australia/Adelaide:20250606T080000
DTEND;TZID=Australia/Adelaide:20250606T170000
DTSTAMP:20260423T054404
CREATED:20250505T030535Z
LAST-MODIFIED:20250505T030536Z
UID:242744-1749196800-1749229200@www.portnoarps.sa.edu.au
SUMMARY:Student Free Day
DESCRIPTION:Friday 6th June is a Student Free Day at Porties. OSHC services are available.
URL:https://www.portnoarps.sa.edu.au/event/student-free-day-9/
END:VEVENT
BEGIN:VEVENT
DTSTART;TZID=Australia/Adelaide:20250610T083000
DTEND;TZID=Australia/Adelaide:20250610T151000
DTSTAMP:20260423T054404
CREATED:20250505T031808Z
LAST-MODIFIED:20250522T024315Z
UID:242750-1749544200-1749568200@www.portnoarps.sa.edu.au
SUMMARY:School Photos
DESCRIPTION:Tuesday 10th June is Schol Photos Day at Porties. All students have their portrait taken and sit for a class group photo. \n\n\n\nOrders are placed online using these instructions:  \n\n\n\n\n\n\n\n\n\n\n\nContact MSP Photography directly with any queries about ordering photos: 8391 3951 \n\n\n\nCATCH-UP DAY: Anyone absent on photo day will have their portrait taken the following week\, on Tuesday 17th June\, before recess. \n\n\n\nThe Mid-Year Reception class will have their class photo and portraits taken in Term 3. (Date to be confirmed.)
URL:https://www.portnoarps.sa.edu.au/event/school-photos-4/
END:VEVENT
BEGIN:VEVENT
DTSTART;TZID=Australia/Adelaide:20250617T173000
DTEND;TZID=Australia/Adelaide:20250617T183000
DTSTAMP:20260423T054404
CREATED:20250505T030948Z
LAST-MODIFIED:20250505T030949Z
UID:242748-1750181400-1750185000@www.portnoarps.sa.edu.au
SUMMARY:Governing Council
DESCRIPTION:Governing Council meet 5:30pm in the Library.
URL:https://www.portnoarps.sa.edu.au/event/governing-council-9/
END:VEVENT
BEGIN:VEVENT
DTSTART;TZID=Australia/Adelaide:20250624T143000
DTEND;TZID=Australia/Adelaide:20250624T151000
DTSTAMP:20260423T054404
CREATED:20250505T025640Z
LAST-MODIFIED:20250617T045656Z
UID:242740-1750775400-1750777800@www.portnoarps.sa.edu.au
SUMMARY:Assembly CANCELLED
DESCRIPTION:This assembly has been cancelled. Apologies for the change. Assemblies will resume as normal in Term 3.
URL:https://www.portnoarps.sa.edu.au/event/assembly-11/
END:VEVENT
END:VCALENDAR