BEGIN:VCALENDAR
VERSION:2.0
PRODID:-//Port Noarlunga Primary School - ECPv6.10.1.1//NONSGML v1.0//EN
CALSCALE:GREGORIAN
METHOD:PUBLISH
X-ORIGINAL-URL:https://www.portnoarps.sa.edu.au
X-WR-CALDESC:Events for Port Noarlunga Primary School
REFRESH-INTERVAL;VALUE=DURATION:PT1H
X-Robots-Tag:noindex
X-PUBLISHED-TTL:PT1H
BEGIN:VTIMEZONE
TZID:Australia/Adelaide
BEGIN:STANDARD
TZOFFSETFROM:+1030
TZOFFSETTO:+0930
TZNAME:ACST
DTSTART:20250405T163000
END:STANDARD
BEGIN:DAYLIGHT
TZOFFSETFROM:+0930
TZOFFSETTO:+1030
TZNAME:ACDT
DTSTART:20251004T163000
END:DAYLIGHT
END:VTIMEZONE
BEGIN:VEVENT
DTSTART;TZID=Australia/Adelaide:20250513T173000
DTEND;TZID=Australia/Adelaide:20250513T183000
DTSTAMP:20260423T071753
CREATED:20250505T030902Z
LAST-MODIFIED:20250505T030903Z
UID:242746-1747157400-1747161000@www.portnoarps.sa.edu.au
SUMMARY:Governing Council
DESCRIPTION:Governing Council meets 5:30 pm in the Library.
URL:https://www.portnoarps.sa.edu.au/event/governing-council-8/
END:VEVENT
END:VCALENDAR