BEGIN:VCALENDAR
VERSION:2.0
PRODID:-//Port Noarlunga Primary School - ECPv6.10.1.1//NONSGML v1.0//EN
CALSCALE:GREGORIAN
METHOD:PUBLISH
X-ORIGINAL-URL:https://www.portnoarps.sa.edu.au
X-WR-CALDESC:Events for Port Noarlunga Primary School
REFRESH-INTERVAL;VALUE=DURATION:PT1H
X-Robots-Tag:noindex
X-PUBLISHED-TTL:PT1H
BEGIN:VTIMEZONE
TZID:Australia/Adelaide
BEGIN:STANDARD
TZOFFSETFROM:+1030
TZOFFSETTO:+0930
TZNAME:ACST
DTSTART:20250405T163000
END:STANDARD
BEGIN:DAYLIGHT
TZOFFSETFROM:+0930
TZOFFSETTO:+1030
TZNAME:ACDT
DTSTART:20251004T163000
END:DAYLIGHT
END:VTIMEZONE
BEGIN:VEVENT
DTSTART;TZID=Australia/Adelaide:20250304T143000
DTEND;TZID=Australia/Adelaide:20250304T143000
DTSTAMP:20260423T101015
CREATED:20250120T010519Z
LAST-MODIFIED:20250120T010521Z
UID:242427-1741098600-1741098600@www.portnoarps.sa.edu.au
SUMMARY:Assembly
DESCRIPTION:Join us for a whole school Assembly in the Gym from 2:30pm
URL:https://www.portnoarps.sa.edu.au/event/assembly-9/
END:VEVENT
BEGIN:VEVENT
DTSTART;TZID=Australia/Adelaide:20250307T000000
DTEND;TZID=Australia/Adelaide:20250307T235959
DTSTAMP:20260423T101015
CREATED:20250120T005932Z
LAST-MODIFIED:20250120T005934Z
UID:242421-1741305600-1741391999@www.portnoarps.sa.edu.au
SUMMARY:Student Free Day
DESCRIPTION:Friday\, 7th March 2025 is a Student Free Day at Port Noarlunga Primary. OSHC services are available if already booked.
URL:https://www.portnoarps.sa.edu.au/event/student-free-day-8/
END:VEVENT
BEGIN:VEVENT
DTSTART;TZID=Australia/Adelaide:20250313T170000
DTEND;TZID=Australia/Adelaide:20250313T180000
DTSTAMP:20260423T101015
CREATED:20250227T234427Z
LAST-MODIFIED:20250227T234429Z
UID:242600-1741885200-1741888800@www.portnoarps.sa.edu.au
SUMMARY:Parent Info Workshop - Resilience
DESCRIPTION:In the Library\, no need to book! We hope you can join Mr. Josh in the Library for another informative Parent Info Workshop on Resilience.
URL:https://www.portnoarps.sa.edu.au/event/parent-info-workshop-resilience/
END:VEVENT
BEGIN:VEVENT
DTSTART;TZID=Australia/Adelaide:20250318T170000
DTEND;TZID=Australia/Adelaide:20250318T180000
DTSTAMP:20260423T101015
CREATED:20250120T010052Z
LAST-MODIFIED:20250120T010054Z
UID:242423-1742317200-1742320800@www.portnoarps.sa.edu.au
SUMMARY:Governing Council Meeting
DESCRIPTION:Governing Council meeting in the Library from 5PM.
URL:https://www.portnoarps.sa.edu.au/event/governing-council-meeting-3/
END:VEVENT
BEGIN:VEVENT
DTSTART;TZID=Australia/Adelaide:20250320T090000
DTEND;TZID=Australia/Adelaide:20250320T120000
DTSTAMP:20260423T101015
CREATED:20250120T011507Z
LAST-MODIFIED:20250120T011508Z
UID:242433-1742461200-1742472000@www.portnoarps.sa.edu.au
SUMMARY:Closing the Gap
DESCRIPTION:Details about our school’s Closing the Gap event will be published here soon. \n\n\n\nhttps://www.closingthegap.gov.au
URL:https://www.portnoarps.sa.edu.au/event/closing-the-gap/
END:VEVENT
BEGIN:VEVENT
DTSTART;TZID=Australia/Adelaide:20250325T143000
DTEND;TZID=Australia/Adelaide:20250325T143000
DTSTAMP:20260423T101015
CREATED:20250120T010623Z
LAST-MODIFIED:20250120T010624Z
UID:242429-1742913000-1742913000@www.portnoarps.sa.edu.au
SUMMARY:Assembly
DESCRIPTION:Join us for the last Assembly of Term 1 from 2:30pm in the Gym.
URL:https://www.portnoarps.sa.edu.au/event/assembly-10/
END:VEVENT
BEGIN:VEVENT
DTSTART;TZID=Australia/Adelaide:20250327T085000
DTEND;TZID=Australia/Adelaide:20250327T151000
DTSTAMP:20260423T101015
CREATED:20250219T012751Z
LAST-MODIFIED:20250219T012752Z
UID:242572-1743065400-1743088200@www.portnoarps.sa.edu.au
SUMMARY:Wear PURPLE Day!
DESCRIPTION:On Thursday 27th of March\, join us in raising awareness for epilepsy by participating in Make March Purple Day! This important day is dedicated to supporting individuals and families affected by epilepsy and spreading knowledge about this neurological condition. \n\n\n\nShow your support by wearing purple clothing or accessories on the 27th. The more purple the better! Make sure you also take the time to learn more about epilepsy and share information with friends and family. You can make a gold coin donation on the day or a donation via the Qkr! app (open now). \n\n\n\nChildren are also invited to wear a single accessory alongside their school uniform for the month of March.
URL:https://www.portnoarps.sa.edu.au/event/wear-purple-day/
END:VEVENT
END:VCALENDAR