BEGIN:VCALENDAR
VERSION:2.0
PRODID:-//Port Noarlunga Primary School - ECPv6.10.1.1//NONSGML v1.0//EN
CALSCALE:GREGORIAN
METHOD:PUBLISH
X-WR-CALNAME:Port Noarlunga Primary School
X-ORIGINAL-URL:https://www.portnoarps.sa.edu.au
X-WR-CALDESC:Events for Port Noarlunga Primary School
REFRESH-INTERVAL;VALUE=DURATION:PT1H
X-Robots-Tag:noindex
X-PUBLISHED-TTL:PT1H
BEGIN:VTIMEZONE
TZID:Australia/Adelaide
BEGIN:STANDARD
TZOFFSETFROM:+1030
TZOFFSETTO:+0930
TZNAME:ACST
DTSTART:20240406T163000
END:STANDARD
BEGIN:DAYLIGHT
TZOFFSETFROM:+0930
TZOFFSETTO:+1030
TZNAME:ACDT
DTSTART:20241005T163000
END:DAYLIGHT
END:VTIMEZONE
BEGIN:VEVENT
DTSTART;TZID=Australia/Adelaide:20241111T080000
DTEND;TZID=Australia/Adelaide:20241111T170000
DTSTAMP:20260423T160813
CREATED:20241023T035626Z
LAST-MODIFIED:20241023T035628Z
UID:242370-1731312000-1731344400@www.portnoarps.sa.edu.au
SUMMARY:School Closure Day
DESCRIPTION:Port Noarlunga Primary will be closed on Remembrance Day\, Monday 11th November. Staff and Students do not attend. \n\n\n\nOSHC services are available if already booked.
URL:https://www.portnoarps.sa.edu.au/event/school-closure-day-2/
END:VEVENT
BEGIN:VEVENT
DTSTART;TZID=Australia/Adelaide:20241115T085000
DTEND;TZID=Australia/Adelaide:20241115T151000
DTSTAMP:20260423T160813
CREATED:20241107T012606Z
LAST-MODIFIED:20241107T012609Z
UID:242386-1731660600-1731683400@www.portnoarps.sa.edu.au
SUMMARY:Casual Clothes Day!
DESCRIPTION:Friday 15th November (Week 5) is a casual clothes day at Porties. \n\n\n\nThere is no gold coin donation required\, simply wear casual clothes instead of school uniform. Easy!
URL:https://www.portnoarps.sa.edu.au/event/casual-clothes-day-2/
END:VEVENT
BEGIN:VEVENT
DTSTART;TZID=Australia/Adelaide:20241119T080000
DTEND;TZID=Australia/Adelaide:20241119T170000
DTSTAMP:20260423T160813
CREATED:20241023T035751Z
LAST-MODIFIED:20241023T035752Z
UID:242372-1732003200-1732035600@www.portnoarps.sa.edu.au
SUMMARY:Porties Marketplace
DESCRIPTION:All students bring no more than $5 to spend at stalls in the Porties Marketplace. \n\n\n\nEach class (Reception to Year 4) will have an allocated time to visit the marketplace and purchase items prepared by the Upper Primary classes. \n\n\n\nThere will be all kinds of items available from the small business\, including food & snacks\, toys\, games\, and other “market” incentives.
URL:https://www.portnoarps.sa.edu.au/event/porties-marketplace/
END:VEVENT
BEGIN:VEVENT
DTSTART;TZID=Australia/Adelaide:20241129T090000
DTEND;TZID=Australia/Adelaide:20241129T140000
DTSTAMP:20260423T160813
CREATED:20240919T032842Z
LAST-MODIFIED:20240919T231336Z
UID:242350-1732870800-1732888800@www.portnoarps.sa.edu.au
SUMMARY:Beach Carnival 2024
DESCRIPTION:Our annual Beach Carnival will be held at Port Noarlunga Beach (esplanade) on Friday\, 29th November. Families are welcome to attend and support. \n\n\n\nClasses will walk to and from the beach\, departing at 9am and returning by 3pm. While at the beach\, they will engage in Sports Day activities in their house teams. \n\n\n\nIn case of rain/bad weather\, a back-up day is scheduled for Monday\, 2nd December. \n\n\n\nLast year (2023) Swordfish were the Beach Carnival champions. \n\n\n\nRemember to: \n\n\n\n\nApply sunscreen in the morning\n\n\n\nBring your water bottle!\n\n\n\nWear walking shoes\n\n\n\nBring a towel\n\n\n\nWear team colours\n\n\n\nWear bathers/boardies\n\n\n\nPack snacks and lunch\n\n\n\n\nAn itinerary for the day will be posted here in Term 4. Generally\, there are tabloid events in the morning\, followed by team events after lunch.
URL:https://www.portnoarps.sa.edu.au/event/beach-carnival-2024/
END:VEVENT
END:VCALENDAR