BEGIN:VCALENDAR
VERSION:2.0
PRODID:-//Port Noarlunga Primary School - ECPv6.10.1.1//NONSGML v1.0//EN
CALSCALE:GREGORIAN
METHOD:PUBLISH
X-ORIGINAL-URL:https://www.portnoarps.sa.edu.au
X-WR-CALDESC:Events for Port Noarlunga Primary School
REFRESH-INTERVAL;VALUE=DURATION:PT1H
X-Robots-Tag:noindex
X-PUBLISHED-TTL:PT1H
BEGIN:VTIMEZONE
TZID:Australia/Adelaide
BEGIN:STANDARD
TZOFFSETFROM:+1030
TZOFFSETTO:+0930
TZNAME:ACST
DTSTART:20240406T163000
END:STANDARD
BEGIN:DAYLIGHT
TZOFFSETFROM:+0930
TZOFFSETTO:+1030
TZNAME:ACDT
DTSTART:20241005T163000
END:DAYLIGHT
END:VTIMEZONE
BEGIN:VEVENT
DTSTART;TZID=Australia/Adelaide:20240722T150000
DTEND;TZID=Australia/Adelaide:20240809T170000
DTSTAMP:20260423T210013
CREATED:20240627T233335Z
LAST-MODIFIED:20240704T061737Z
UID:242174-1721660400-1723222800@www.portnoarps.sa.edu.au
SUMMARY:Parent Teacher Interviews - Term 3 2024
DESCRIPTION:Teachers will conduct Parent-Teacher interviews for families in the first 3 weeks of Term 3—between Monday\, July 22nd and Friday\, 9th August. \n\n\n\nBOOKINGS CLOSE: Families must book a time before 3PM Monday\, July 22nd. \n\n\n\nBOOKINGS OPEN: Families will be able to book an interview time starting Tuesday\, 9th July (first Tuesday of the school holidays). \n\n\n\nUse this link to book: \n\n\n\nhttps://www.schoolinterviews.com.au/code/qx7wr \n\n\n\n\nClick ‘Make a Booking’\n\n\n\nEnter the code: qx7wr\n\n\n\nFollow the prompts to book a time that suits you.\n\n\n\n\nPlease bring your Report Portfolio to the interview. \n\n\n\nContact the school with any queries: 8382 2455
URL:https://www.portnoarps.sa.edu.au/event/parent-teacher-interviews-term-3-2024/
END:VEVENT
BEGIN:VEVENT
DTSTART;TZID=Australia/Adelaide:20240805T085000
DTEND;TZID=Australia/Adelaide:20240805T151000
DTSTAMP:20260423T210013
CREATED:20240627T233103Z
LAST-MODIFIED:20240627T233105Z
UID:242172-1722847800-1722870600@www.portnoarps.sa.edu.au
SUMMARY:Student Free Day - Monday\, 5th August
DESCRIPTION:Monday 5th August is a Student Free Day. Students do not attend school today while staff participate in training. OSHC services are available if already booked.
URL:https://www.portnoarps.sa.edu.au/event/student-free-day-monday-5th-august/
END:VEVENT
BEGIN:VEVENT
DTSTART;TZID=Australia/Adelaide:20240806T085000
DTEND;TZID=Australia/Adelaide:20240806T085000
DTSTAMP:20260423T210013
CREATED:20240621T022554Z
LAST-MODIFIED:20240726T051303Z
UID:242169-1722934200-1722934200@www.portnoarps.sa.edu.au
SUMMARY:Hat Policy Begins Tuesday 6 August 2024
DESCRIPTION:Hats must be worn by all students beginning Monday\, 5th August (Term 3\, Week 3). Broad-brimmed hat featuring our school logo from the school uniform shop is preferred. \n\n\n\nThis is according to our SunSmart policy. See: https://www.portnoarps.sa.edu.au/policies-and-guidelines/
URL:https://www.portnoarps.sa.edu.au/event/hat-policy-begins-monday-5-august-2024/
END:VEVENT
BEGIN:VEVENT
DTSTART;TZID=Australia/Adelaide:20240812T085000
DTEND;TZID=Australia/Adelaide:20240812T151000
DTSTAMP:20260423T210013
CREATED:20240802T022907Z
LAST-MODIFIED:20240808T044354Z
UID:242265-1723452600-1723475400@www.portnoarps.sa.edu.au
SUMMARY:Wear PURPLE or ORANGE - National Day Against Bullying
DESCRIPTION:We invite students to wear PURPLE or ORANGE along with their uniform on Monday\, 12th August as part of the National Week Against Bullying camp \n\n\n\nThe theme for this year’s National Week Against Bullying campaign is: \n\n\n\nEveryone belongs. \n\n\n\nWhen we all feel like we belong\, bullying struggles to find a place. It’s about embracing who we are\, respecting everyone’s differences and standing up together against unkindness.  \n\n\n\nBelonging means we all have a role in preventing bullying. We’re encouraged to speak up and create a safe place where everyone feels supported and respected\, and our voices are heard and valued. \n\n\n\nPurple is the new orange! \n\n\n\nPurple is now the hero colour that will represent Bullying No Way: National week of action. It represents peace\, strength and empowerment\, with bold tones signifying a firm stand against bullying behaviour
URL:https://www.portnoarps.sa.edu.au/event/wear-purple-or-orange-national-day-against-bullying/
END:VEVENT
BEGIN:VEVENT
DTSTART;TZID=Australia/Adelaide:20240821T093000
DTEND;TZID=Australia/Adelaide:20240821T100000
DTSTAMP:20260423T210013
CREATED:20240628T000409Z
LAST-MODIFIED:20240703T002854Z
UID:242180-1724232600-1724234400@www.portnoarps.sa.edu.au
SUMMARY:Dress-Up Day and Parade - Wednesday 21st August
DESCRIPTION:Our Dress-Up Day and Parade for Book Week 2024 is Wednesday 21st August \n\n\n\nFrom 9:30AM every class will walk around the neighbouring block for families and kindy students to wave hello and see the costumes\, a tradition that started in 2020. \n\n\n\n*In case of rain\, the parade will move to the gym. \n\n\n\nBook Week Fair in Library between Monday 19th and Thursday 22nd August. \n\n\n\nThe theme for Book Week 2024 is Reading is Magic!
URL:https://www.portnoarps.sa.edu.au/event/dress-up-day-and-parade-2024/
END:VEVENT
BEGIN:VEVENT
DTSTART;TZID=Australia/Adelaide:20240829T085000
DTEND;TZID=Australia/Adelaide:20240829T150000
DTSTAMP:20260423T210013
CREATED:20240815T003122Z
LAST-MODIFIED:20240815T024356Z
UID:242290-1724921400-1724943600@www.portnoarps.sa.edu.au
SUMMARY:Wear YELLOW casual clothes day
DESCRIPTION:Staff and students are invited to wear yellow on Thursday Week 6 (August 29th) to support the Cancer Council Daffodil Day. \n\n\n\n\n\n\n\n💰 COLD COIN DONATIONS✔️ Young Leaders will collect gold coins from classrooms✔️ Or make a donation on QKR! \n\n\n\nDaffodil Day is happening around the same time as our Book Week Dress-Up Parade\, so we are showing our support a little later in Week 6.
URL:https://www.portnoarps.sa.edu.au/event/wear-yellow-casual-clothes-day/
END:VEVENT
END:VCALENDAR