BEGIN:VCALENDAR
VERSION:2.0
PRODID:-//Port Noarlunga Primary School - ECPv6.10.1.1//NONSGML v1.0//EN
CALSCALE:GREGORIAN
METHOD:PUBLISH
X-ORIGINAL-URL:https://www.portnoarps.sa.edu.au
X-WR-CALDESC:Events for Port Noarlunga Primary School
REFRESH-INTERVAL;VALUE=DURATION:PT1H
X-Robots-Tag:noindex
X-PUBLISHED-TTL:PT1H
BEGIN:VTIMEZONE
TZID:Australia/Adelaide
BEGIN:STANDARD
TZOFFSETFROM:+1030
TZOFFSETTO:+0930
TZNAME:ACST
DTSTART:20240406T163000
END:STANDARD
BEGIN:DAYLIGHT
TZOFFSETFROM:+0930
TZOFFSETTO:+1030
TZNAME:ACDT
DTSTART:20241005T163000
END:DAYLIGHT
END:VTIMEZONE
BEGIN:VEVENT
DTSTART;TZID=Australia/Adelaide:20240611T083000
DTEND;TZID=Australia/Adelaide:20240611T150000
DTSTAMP:20260423T235551
CREATED:20240212T012100Z
LAST-MODIFIED:20240523T044735Z
UID:241645-1718094600-1718118000@www.portnoarps.sa.edu.au
SUMMARY:School Photos
DESCRIPTION:Our school photo day is Tuesday\, 11th June (Week 7\, Term 2). Every student will have their portrait taken on this day\, along with a class group photo. \n\n\n\nHOW TO ORDEROrdering is entirely online. There are no envolpes or paper ordering. Your unique shootkey has been emailed Thursday\, 23rd May from “MSPSCHOOLPHOTOS”. \n\n\n\nSimply click the link and enter the unique shootkey number found in your email:https://orders.msp.com.au/ordering/access \n\n\n\nIf you have queries about ordering please contact our photo company MSP PHOTOGRAPHY directly on 8391 3951. \n\n\n\nIS THERE A CATCH-UP DAY?Yes\, any students who are away on photo day will have their portrait taken on Friday\, 28 June. \n\n\n\nLAST DAY TO ORDER: Saturday\, 18th June.
URL:https://www.portnoarps.sa.edu.au/event/school-photos-3/
END:VEVENT
BEGIN:VEVENT
DTSTART;TZID=Australia/Adelaide:20240618T173000
DTEND;TZID=Australia/Adelaide:20240618T183000
DTSTAMP:20260423T235551
CREATED:20240506T061955Z
LAST-MODIFIED:20240506T061956Z
UID:242089-1718731800-1718735400@www.portnoarps.sa.edu.au
SUMMARY:Governing Council
DESCRIPTION:Governing Council members meet in the Library at 5:30PM.
URL:https://www.portnoarps.sa.edu.au/event/governing-council-7/
END:VEVENT
END:VCALENDAR