BEGIN:VCALENDAR
VERSION:2.0
PRODID:-//Port Noarlunga Primary School - ECPv6.10.1.1//NONSGML v1.0//EN
CALSCALE:GREGORIAN
METHOD:PUBLISH
X-ORIGINAL-URL:https://www.portnoarps.sa.edu.au
X-WR-CALDESC:Events for Port Noarlunga Primary School
REFRESH-INTERVAL;VALUE=DURATION:PT1H
X-Robots-Tag:noindex
X-PUBLISHED-TTL:PT1H
BEGIN:VTIMEZONE
TZID:Australia/Adelaide
BEGIN:STANDARD
TZOFFSETFROM:+1030
TZOFFSETTO:+0930
TZNAME:ACST
DTSTART:20240406T163000
END:STANDARD
BEGIN:DAYLIGHT
TZOFFSETFROM:+0930
TZOFFSETTO:+1030
TZNAME:ACDT
DTSTART:20241005T163000
END:DAYLIGHT
END:VTIMEZONE
BEGIN:VEVENT
DTSTART;TZID=Australia/Adelaide:20240412T141500
DTEND;TZID=Australia/Adelaide:20240412T141500
DTSTAMP:20260424T031545
CREATED:20240212T030745Z
LAST-MODIFIED:20240501T025448Z
UID:241668-1712931300-1712931300@www.portnoarps.sa.edu.au
SUMMARY:Early Dismissal 2:15PM
DESCRIPTION:2:15pm Early Dismissal on Friday\, April 12th for the last day of Term 1. \n\n\n\nTerm 2 begins Monday\, 29th April.
URL:https://www.portnoarps.sa.edu.au/event/early-dismissal-215pm-4/
END:VEVENT
BEGIN:VEVENT
DTSTART;TZID=Australia/Adelaide:20240430T090000
DTEND;TZID=Australia/Adelaide:20240430T123000
DTSTAMP:20260424T031545
CREATED:20240412T050911Z
LAST-MODIFIED:20240501T025447Z
UID:242053-1714467600-1714480200@www.portnoarps.sa.edu.au
SUMMARY:Year 5/6 First Aid Training
DESCRIPTION:Specialised First Aid Training for Year 5/6 students\, held in the gym on Tuesday morning\, 30th April.
URL:https://www.portnoarps.sa.edu.au/event/year-5-6-first-aid-training/
END:VEVENT
END:VCALENDAR