BEGIN:VCALENDAR
VERSION:2.0
PRODID:-//Port Noarlunga Primary School - ECPv6.10.1.1//NONSGML v1.0//EN
CALSCALE:GREGORIAN
METHOD:PUBLISH
X-ORIGINAL-URL:https://www.portnoarps.sa.edu.au
X-WR-CALDESC:Events for Port Noarlunga Primary School
REFRESH-INTERVAL;VALUE=DURATION:PT1H
X-Robots-Tag:noindex
X-PUBLISHED-TTL:PT1H
BEGIN:VTIMEZONE
TZID:Australia/Adelaide
BEGIN:STANDARD
TZOFFSETFROM:+1030
TZOFFSETTO:+0930
TZNAME:ACST
DTSTART:20240406T163000
END:STANDARD
BEGIN:DAYLIGHT
TZOFFSETFROM:+0930
TZOFFSETTO:+1030
TZNAME:ACDT
DTSTART:20241005T163000
END:DAYLIGHT
END:VTIMEZONE
BEGIN:VEVENT
DTSTART;TZID=Australia/Adelaide:20240305T090000
DTEND;TZID=Australia/Adelaide:20240305T150000
DTSTAMP:20260424T045131
CREATED:20240212T024544Z
LAST-MODIFIED:20240501T025450Z
UID:241654-1709629200-1709650800@www.portnoarps.sa.edu.au
SUMMARY:Aquatics Water Safety - Year 3/4
DESCRIPTION:On Tuesday\, 5th March all Year 3/4 students will participate in Water Safety Lessons facilitated by Port Noarlunga Aquatics. \n\n\n\nSessions over the whole day are held at Port Noarlunga Jetty. Students will walk to and from the beach\, departing school at 9AM and returning by 3:10PM. \n\n\n\nIMPORTANT! THREE (3) ITEMS ARE REQUIRED \n\n\n\nBefore attending\, the following must be received by the school: \n\n\n\n\nPayment on QKR! or in person (details below)\n\n\n\nWATER SAFETY CONSENT FORM. This is a Department for Education mandated form. It will be sent via email\, looking similar to this form. Please check your email soon after receiving this excursion notice.\n\n\n\nPermission to attend (given at the bottom of this form)\n\n\n\n\nCheck with your class teacher or the front office (8382 2455) if you would like to check everything has been received. \n\n\n\nWHAT TO BRING: \n\n\n\n\nPacked recess and lunch.\n\n\n\nWater bottle.\n\n\n\nWear bathers (students will wear a wetsuit over top\, provided by aquatics).\n\n\n\nSpare change of clothes.\n\n\n\nSpare change of underwear.\n\n\n\nApply sunscreen.\n\n\n\nExtra sunscreen to re-apply during the day.\n\n\n\nSchool hats must be worn for walking to and from the beach.\n\n\n\nUniform is not required today. Comfy walking clothes are OK.\n\n\n\nCovered shoes please.\n\n\n\n\nContacts at the school during this excursion: \n\n\n\n\nAmy Harris (Administration SSO) 8382 2455\n\n\n\nJason Stringer (Administration SSO) 8382 2455\n\n\n\n\nCost $3.06 \n\n\n\nDate: Tuesday\, 5th March 2024 \n\n\n\nDeparture Time: 9AM \n\n\n\nVenue Name: Port Noarlunga Jetty \n\n\n\nTransportation: Walking to and from in class groups \n\n\n\nEstimated time of return to School: 3:10PM \n\n\n\nCOST: $3.06 \n\n\n\nPAYMENT: Can be made on the QKR app (click School Payments\, then Excursions/Incursions tab\, then Water Safety: Year 3/4)\, or in person at the Finance desk during school hours. Payment needs to be received in order for students to participate. Payment plans are available if required. \n\n\n\nImportant payment information:Payments are due one week prior to any activity to enable us to liaise with providers\, arrange deposits and payments where required and to tally final numbers to ensure correct ratios of adult supervision. Qkr! payments will close 7 days prior to the event at 9:30AM. Please ensure you have made payment via EFTPOS\, cash\, or Qkr! prior to this date. Part payment options are available on Qkr! and in person. Business Manager Vicki McCarthy for payment enquiries 8382 2455.
URL:https://www.portnoarps.sa.edu.au/event/aquatics-water-safety-year-3-4/
END:VEVENT
BEGIN:VEVENT
DTSTART;TZID=Australia/Adelaide:20240308T083000
DTEND;TZID=Australia/Adelaide:20240308T161000
DTSTAMP:20260424T045131
CREATED:20240212T024731Z
LAST-MODIFIED:20240306T003852Z
UID:241657-1709886600-1709914200@www.portnoarps.sa.edu.au
SUMMARY:Aquatics Water Safety - Year 5/6
DESCRIPTION:On Friday\, 8th March all Year 5/6 students will participate in Water Safety Lessons facilitated by Port Noarlunga Aquatics. \n\n\n\nThree sessions over the whole day are held at Port Noarlunga Jetty. Students will walk to and from the beach\, departing school at 9AM and returning by 4:10PM. Students can be collected by a parent from the beach at 4PM. \n\n\n\nIMPORTANT! THREE (3) ITEMS ARE REQUIRED \n\n\n\nBefore attending\, the following must be received by the school: \n\n\n\n\nPayment on QKR! or in person (details below)\n\n\n\nWATER SAFETY CONSENT FORM. This is a Department for Education mandated form. It will be sent via email\, looking similar to this form. Please check your email soon after receiving this excursion notice.\n\n\n\nPermission to attend (given at the bottom of this form)\n\n\n\n\nCheck with your class teacher or the front office (8382 2455) if you would like to check everything has been received. \n\n\n\nWHAT TO BRING: \n\n\n\n\nPacked recess and lunch.\n\n\n\nWater bottle.\n\n\n\nWear bathers (students will wear a wetsuit over top\, provided by aquatics).\n\n\n\nSpare change of clothes.\n\n\n\nSpare change of underwear.\n\n\n\nApply sunscreen.\n\n\n\nExtra sunscreen to re-apply during the day.\n\n\n\nSchool hats must be worn for walking to and from the beach.\n\n\n\nUniform is not required today. Comfy walking clothes are OK.\n\n\n\nCovered shoes please.\n\n\n\n\nContacts at the school during this excursion: \n\n\n\n\nAmy Harris (Administration SSO) 8382 2455\n\n\n\nJason Stringer (Administration SSO) 8382 2455\n\n\n\n\nCost Year 6: $14.40 / Year 5: $4.02 (payment details below) \n\n\n\nDate: Friday\, 8th March 2024 \n\n\n\nDeparture Time: 8:30AM \n\n\n\nVenue Name: Port Noarlunga Jetty \n\n\n\nTransportation Walking to and from in class groups \n\n\n\nEstimated time of return to School: 4:10PM \n\n\n\nDetails: \n\n\n\nCOST: \n\n\n\n$14.40 per Year 6 student \n\n\n\n$4.02 per Year 5 student \n\n\n\nPAYMENT: Can be made on the QKR app (click School Payments\, then Excursions/Incursions tab\, then Water Safety: Year 5/6)\, or in person at the Finance desk during school hours. Payment needs to be received in order for students to participate. Payment plans are available if required. \n\n\n\nImportant payment information:Payments are due one week prior to any activity to enable us to liaise with providers\, arrange deposits and payments where required and to tally final numbers to ensure correct ratios of adult supervision. Qkr! payments will close 7 days prior to the event at 9:30AM. Please ensure you have made payment via EFTPOS\, cash\, or Qkr! prior to this date. Part payment options are available on Qkr! and in person. Business Manager Vicki McCarthy for payment enquiries 8382 2455.
URL:https://www.portnoarps.sa.edu.au/event/aquatics-water-safety-year-5-6/
END:VEVENT
BEGIN:VEVENT
DTSTART;TZID=Australia/Adelaide:20240311T090000
DTEND;TZID=Australia/Adelaide:20240318T150000
DTSTAMP:20260424T045131
CREATED:20240212T025127Z
LAST-MODIFIED:20240319T005453Z
UID:241659-1710147600-1710774000@www.portnoarps.sa.edu.au
SUMMARY:Dental for Schools
DESCRIPTION:Dental checkups available for students. Families can register using the paper form that will be sent home. Medicare information needs to be provided. \n\n\n\nExact times of appointments cannot be provided during this time. Contact the front office for more information or follow-up: 8382 2455 \n\n\n\nAlternatively\, contact Dental for Schools directly: \n\n\n\nhttps://www.dentalforschools.com.au/ \n\n\n\n(08) 7084 2141
URL:https://www.portnoarps.sa.edu.au/event/dental-for-schools-2/
END:VEVENT
BEGIN:VEVENT
DTSTART;TZID=Australia/Adelaide:20240319T173000
DTEND;TZID=Australia/Adelaide:20240319T183000
DTSTAMP:20260424T045131
CREATED:20240212T030116Z
LAST-MODIFIED:20240501T025449Z
UID:241666-1710869400-1710873000@www.portnoarps.sa.edu.au
SUMMARY:Governing Council
DESCRIPTION:Governing Council meet in the Library at 5:30pm
URL:https://www.portnoarps.sa.edu.au/event/governing-council-5/
END:VEVENT
BEGIN:VEVENT
DTSTART;TZID=Australia/Adelaide:20240326T143000
DTEND;TZID=Australia/Adelaide:20240326T151000
DTSTAMP:20260424T045131
CREATED:20240212T025840Z
LAST-MODIFIED:20240501T025449Z
UID:241663-1711463400-1711465800@www.portnoarps.sa.edu.au
SUMMARY:Assembly
DESCRIPTION:Assembly in the gym from 2:30PM until dismissal at 3:10PM. Families are welcome to attend!
URL:https://www.portnoarps.sa.edu.au/event/241663/
END:VEVENT
BEGIN:VEVENT
DTSTART;TZID=Australia/Adelaide:20240327T083000
DTEND;TZID=Australia/Adelaide:20240327T150000
DTSTAMP:20260424T045131
CREATED:20240318T235224Z
LAST-MODIFIED:20240318T235226Z
UID:241780-1711528200-1711551600@www.portnoarps.sa.edu.au
SUMMARY:Wear Team Colours Day! (Gold Coin Donation)
DESCRIPTION:Raising money for the Mills family. \n\n\n\nStaff\, students and parents: Wear your TEAM COLOURS to school for a gold coin donation! Wednesday\, 27th March. \n\n\n\nDonations can be made on QKR in leui of gold coins.(School Events > Wear Team Colours Day) \n\n\n\nGive extra support: https://gofund.me/4e39b06d
URL:https://www.portnoarps.sa.edu.au/event/wear-team-colours-day-gold-coin-donation/
END:VEVENT
BEGIN:VEVENT
DTSTART;TZID=Australia/Adelaide:20240328T085000
DTEND;TZID=Australia/Adelaide:20240328T151000
DTSTAMP:20260424T045131
CREATED:20240212T025419Z
LAST-MODIFIED:20240501T025448Z
UID:241661-1711615800-1711638600@www.portnoarps.sa.edu.au
SUMMARY:Student Free Day - Thursday\, 28th March 2024
DESCRIPTION:Thursday\, March 28th (Week 9) is a Student Free Day. OSHC services are available if already booked.
URL:https://www.portnoarps.sa.edu.au/event/student-free-day-thursday-28th-march-2024/
END:VEVENT
END:VCALENDAR