BEGIN:VCALENDAR
VERSION:2.0
PRODID:-//Port Noarlunga Primary School - ECPv6.10.1.1//NONSGML v1.0//EN
CALSCALE:GREGORIAN
METHOD:PUBLISH
X-ORIGINAL-URL:https://www.portnoarps.sa.edu.au
X-WR-CALDESC:Events for Port Noarlunga Primary School
REFRESH-INTERVAL;VALUE=DURATION:PT1H
X-Robots-Tag:noindex
X-PUBLISHED-TTL:PT1H
BEGIN:VTIMEZONE
TZID:Australia/Adelaide
BEGIN:STANDARD
TZOFFSETFROM:+1030
TZOFFSETTO:+0930
TZNAME:ACST
DTSTART:20230401T163000
END:STANDARD
BEGIN:DAYLIGHT
TZOFFSETFROM:+0930
TZOFFSETTO:+1030
TZNAME:ACDT
DTSTART:20230930T163000
END:DAYLIGHT
END:VTIMEZONE
BEGIN:VEVENT
DTSTART;TZID=Australia/Adelaide:20231207T170000
DTEND;TZID=Australia/Adelaide:20231207T180000
DTSTAMP:20260424T093326
CREATED:20230922T034812Z
LAST-MODIFIED:20231115T230511Z
UID:241459-1701968400-1701972000@www.portnoarps.sa.edu.au
SUMMARY:Final Assembly - Thurs\, 7th December at 5pm
DESCRIPTION:Bring a picnic dinner and enjoy our final assembly for 2023 on the school oval from 5pm.
URL:https://www.portnoarps.sa.edu.au/event/final-assembly-thurs-7th-december-at-5pm/
END:VEVENT
BEGIN:VEVENT
DTSTART;TZID=Australia/Adelaide:20231212T170000
DTEND;TZID=Australia/Adelaide:20231212T190000
DTSTAMP:20260424T093326
CREATED:20230922T035756Z
LAST-MODIFIED:20230922T035855Z
UID:241466-1702400400-1702407600@www.portnoarps.sa.edu.au
SUMMARY:Year 6 Graduation - Tues\, 12th December at 5pm
DESCRIPTION:Year 6 Graduation at South Adelaide Football Club. \n\n\n\n5pm for dinner (students only). \n\n\n\nCeremony from 6pm. Parents must confirm attendance.
URL:https://www.portnoarps.sa.edu.au/event/year-6-graduation/
END:VEVENT
BEGIN:VEVENT
DTSTART;TZID=Australia/Adelaide:20231213T123000
DTEND;TZID=Australia/Adelaide:20231213T133000
DTSTAMP:20260424T093326
CREATED:20230922T032928Z
LAST-MODIFIED:20231115T232012Z
UID:241453-1702470600-1702474200@www.portnoarps.sa.edu.au
SUMMARY:Whole School Picnic - Wed\, 13th December at 12:30pm
DESCRIPTION:Families invited to join students for a whole school picnic on the school oval. \n\n\n\nSchool reports are handed out and students learn of their 2024 class placement.
URL:https://www.portnoarps.sa.edu.au/event/whole-school-picnic-wed-13th-december-at-1230pm/
END:VEVENT
BEGIN:VEVENT
DTSTART;TZID=Australia/Adelaide:20231215T141500
DTEND;TZID=Australia/Adelaide:20231215T141500
DTSTAMP:20260424T093326
CREATED:20230922T033509Z
LAST-MODIFIED:20230922T033510Z
UID:241455-1702649700-1702649700@www.portnoarps.sa.edu.au
SUMMARY:Early Dismissal 2:15pm - Friday\, 15th December
DESCRIPTION:2:15pm early dismissal for the last day of 2023. Year 6s will be farewelled with a guard of honor before the bell.
URL:https://www.portnoarps.sa.edu.au/event/early-dismissal-215pm-friday-15th-december/
END:VEVENT
END:VCALENDAR