BEGIN:VCALENDAR
VERSION:2.0
PRODID:-//Port Noarlunga Primary School - ECPv6.10.1.1//NONSGML v1.0//EN
CALSCALE:GREGORIAN
METHOD:PUBLISH
X-WR-CALNAME:Port Noarlunga Primary School
X-ORIGINAL-URL:https://www.portnoarps.sa.edu.au
X-WR-CALDESC:Events for Port Noarlunga Primary School
REFRESH-INTERVAL;VALUE=DURATION:PT1H
X-Robots-Tag:noindex
X-PUBLISHED-TTL:PT1H
BEGIN:VTIMEZONE
TZID:Australia/Adelaide
BEGIN:STANDARD
TZOFFSETFROM:+1030
TZOFFSETTO:+0930
TZNAME:ACST
DTSTART:20230401T163000
END:STANDARD
BEGIN:DAYLIGHT
TZOFFSETFROM:+0930
TZOFFSETTO:+1030
TZNAME:ACDT
DTSTART:20230930T163000
END:DAYLIGHT
END:VTIMEZONE
BEGIN:VEVENT
DTSTART;TZID=Australia/Adelaide:20231101T143000
DTEND;TZID=Australia/Adelaide:20231101T151000
DTSTAMP:20260424T110201
CREATED:20230922T022335Z
LAST-MODIFIED:20230922T022336Z
UID:241434-1698849000-1698851400@www.portnoarps.sa.edu.au
SUMMARY:Assembly - 1st November at 2:30pm
DESCRIPTION:Whole school assembly held in the gym from 2:30pm. Parents welcome.
URL:https://www.portnoarps.sa.edu.au/event/assembly-1st-november-at-230pm/
END:VEVENT
BEGIN:VEVENT
DTSTART;TZID=Australia/Adelaide:20231102T090000
DTEND;TZID=Australia/Adelaide:20231102T150000
DTSTAMP:20260424T110201
CREATED:20230922T022545Z
LAST-MODIFIED:20230922T022546Z
UID:241436-1698915600-1698937200@www.portnoarps.sa.edu.au
SUMMARY:Beach Volleyball tournament at Glenelg Beach
DESCRIPTION:Competing students will travel by bus to participate in the 2023 Glenelg Beach Volleyball tournament.
URL:https://www.portnoarps.sa.edu.au/event/beach-volleyball-tournament-at-glenelg-beach/
END:VEVENT
BEGIN:VEVENT
DTSTART;TZID=Australia/Adelaide:20231108T080000
DTEND;TZID=Australia/Adelaide:20231108T150000
DTSTAMP:20260424T110201
CREATED:20230922T033902Z
LAST-MODIFIED:20230922T035900Z
UID:241457-1699430400-1699455600@www.portnoarps.sa.edu.au
SUMMARY:Choir Performance at Hopgood Theatre - Wed\, 8th November
DESCRIPTION:Tickets for the choir performance will be available to purchase via the Hopgood Theatre box office from the 20th of October. \n\n\n\nTickets are $30. \n\n\n\nFor online bookings visit the Hopgood Theatre website at; https://www.countryarts.org.au/venues/hopgood-theatre/ or call (08) 7009 4400 for venue and ticket enquiries. \n\n\n\nPerformance times and further arrangements to be published here closer to the event.
URL:https://www.portnoarps.sa.edu.au/event/choir-performance-at-hopgood-theatre-wed-8th-november/
END:VEVENT
BEGIN:VEVENT
DTSTART;TZID=Australia/Adelaide:20231109T093000
DTEND;TZID=Australia/Adelaide:20231109T100000
DTSTAMP:20260424T110201
CREATED:20230922T025627Z
LAST-MODIFIED:20231018T230137Z
UID:241440-1699522200-1699524000@www.portnoarps.sa.edu.au
SUMMARY:RAP Launch - Thurs\, 9th November
DESCRIPTION:9:30am – Join us on the outside court by our flags to celebrate the launch of our Reconciliation Action Plan (RAP). It will include a special welcome and Smoking Ceremony from Uncle Moogi. \n\n\n\n2:30pm – Join us again at the same location for our afternoon Rememberence Day Assembly to conclude the day. \n\n\n\nFRIDAY\, 10th November – School Closure Day.
URL:https://www.portnoarps.sa.edu.au/event/rap-launch-thurs-9th-november/
END:VEVENT
BEGIN:VEVENT
DTSTART;TZID=Australia/Adelaide:20231109T143000
DTEND;TZID=Australia/Adelaide:20231109T143000
DTSTAMP:20260424T110201
CREATED:20230922T030051Z
LAST-MODIFIED:20230928T055146Z
UID:241442-1699540200-1699540200@www.portnoarps.sa.edu.au
SUMMARY:Remembrance Day Assembly - Thurs\, 9th November
DESCRIPTION:Our Remembrance Day Assembly will take place outside from 2:30pm\, immediately following the RAP Launch celebrations.
URL:https://www.portnoarps.sa.edu.au/event/remembrance-day-assembly-thurs-9th-november/
END:VEVENT
BEGIN:VEVENT
DTSTART;TZID=Australia/Adelaide:20231110T085000
DTEND;TZID=Australia/Adelaide:20231110T151000
DTSTAMP:20260424T110201
CREATED:20230922T024151Z
LAST-MODIFIED:20230922T024151Z
UID:241438-1699606200-1699629000@www.portnoarps.sa.edu.au
SUMMARY:SCHOOL CLOSURE DAY - Friday 10th November
DESCRIPTION:As part of Remembrance Day\, Friday 10th November is a whole school closure day.
URL:https://www.portnoarps.sa.edu.au/event/school-closure-day-friday-10th-november/
END:VEVENT
BEGIN:VEVENT
DTSTART;TZID=Australia/Adelaide:20231120T085000
DTEND;TZID=Australia/Adelaide:20231120T120000
DTSTAMP:20260424T110201
CREATED:20230922T032600Z
LAST-MODIFIED:20231115T224210Z
UID:241449-1700470200-1700481600@www.portnoarps.sa.edu.au
SUMMARY:Upper Primary Marketplace
DESCRIPTION:Monday\, 20th November. Students bring cash to support various upper primary marketplace businesses. Arts\, crafts\, and foods.
URL:https://www.portnoarps.sa.edu.au/event/upper-primary-marketplace/
END:VEVENT
BEGIN:VEVENT
DTSTART;TZID=Australia/Adelaide:20231122T143000
DTEND;TZID=Australia/Adelaide:20231122T151000
DTSTAMP:20260424T110201
CREATED:20230922T031911Z
LAST-MODIFIED:20230922T032037Z
UID:241447-1700663400-1700665800@www.portnoarps.sa.edu.au
SUMMARY:Assembly - 22nd November at 2:30pm
DESCRIPTION:Whole school assembly held in the gym from 2:30pm. Parents welcome.
URL:https://www.portnoarps.sa.edu.au/event/assembly-22nd-november-at-230pm/
END:VEVENT
BEGIN:VEVENT
DTSTART;TZID=Australia/Adelaide:20231124T091500
DTEND;TZID=Australia/Adelaide:20231124T140000
DTSTAMP:20260424T110201
CREATED:20230922T031654Z
LAST-MODIFIED:20231122T051630Z
UID:241445-1700817300-1700834400@www.portnoarps.sa.edu.au
SUMMARY:BEACH CARNIVAL - Friday\, 24th November
DESCRIPTION:BEACH CARNIVAL 2023 is being held Friday November 24th \n\n\n\nBeach Carnival is our school sports day. It is held at the southern side of Port Noarlunga Beach. \n\n\n\n2023 Program and scheduled times (PDF) \n\n\n\nAll classes walk down to the beach at 9:15AM and then do ativity stations in their classes. Then later in the day is the Iron Boy and Girl events. The event concludes at about 2PM and students walk back to school. \n\n\n\nEach student has been assigned a house that they represent. \n\n\n\nTo help make this day awesome\, we do need lots of parent/carer volunteers. \n\n\n\nEach class needs helpers to walk down to the beach. The time for this is 9:15-10am. If you can help out with walking down please let your child’s teacher know on DOJO. \n\n\n\nFrom 10:15-11:45 we need volunteers to help with the activity stations. If you can help here please let Mike Woolford (Woolly) know also via DOJO. \n\n\n\nFinally\, we need helpers with the Iron Girl and Boy events\, please see Woolly on the day. These run from 12:45-1:30pm. \n\n\n\nParents are welcome on the day\, and it really is a highlight day of our school year. \n\n\n\nPlease DOJO your class teacher or Woolly if you can help out!
URL:https://www.portnoarps.sa.edu.au/event/beach-carnival-friday-24th-november/
END:VEVENT
END:VCALENDAR