BEGIN:VCALENDAR
VERSION:2.0
PRODID:-//Port Noarlunga Primary School - ECPv6.10.1.1//NONSGML v1.0//EN
CALSCALE:GREGORIAN
METHOD:PUBLISH
X-ORIGINAL-URL:https://www.portnoarps.sa.edu.au
X-WR-CALDESC:Events for Port Noarlunga Primary School
REFRESH-INTERVAL;VALUE=DURATION:PT1H
X-Robots-Tag:noindex
X-PUBLISHED-TTL:PT1H
BEGIN:VTIMEZONE
TZID:Australia/Adelaide
BEGIN:STANDARD
TZOFFSETFROM:+1030
TZOFFSETTO:+0930
TZNAME:ACST
DTSTART:20230401T163000
END:STANDARD
BEGIN:DAYLIGHT
TZOFFSETFROM:+0930
TZOFFSETTO:+1030
TZNAME:ACDT
DTSTART:20230930T163000
END:DAYLIGHT
END:VTIMEZONE
BEGIN:VEVENT
DTSTART;TZID=Australia/Adelaide:20231016T085000
DTEND;TZID=Australia/Adelaide:20231016T085000
DTSTAMP:20260424T122457
CREATED:20230804T050401Z
LAST-MODIFIED:20230804T050401Z
UID:241288-1697446200-1697446200@www.portnoarps.sa.edu.au
SUMMARY:Term 4 Begins Monday 16th October
DESCRIPTION:Term 4 begins Monday\, 16th October 2023.
URL:https://www.portnoarps.sa.edu.au/event/term-4-begins-monday-16th-october/
END:VEVENT
BEGIN:VEVENT
DTSTART;TZID=Australia/Adelaide:20231020T090000
DTEND;TZID=Australia/Adelaide:20231020T150000
DTSTAMP:20260424T122457
CREATED:20230918T015147Z
LAST-MODIFIED:20230918T015147Z
UID:241429-1697792400-1697814000@www.portnoarps.sa.edu.au
SUMMARY:Choir Rehearsal at Prescott College Southern
DESCRIPTION:Times and information to be confirmed. Letter/permission will be sent home to parents.
URL:https://www.portnoarps.sa.edu.au/event/choir-rehearsal-at-prescott-college-southern/
END:VEVENT
BEGIN:VEVENT
DTSTART;TZID=Australia/Adelaide:20231031T173000
DTEND;TZID=Australia/Adelaide:20231031T173000
DTSTAMP:20260424T122457
CREATED:20230922T035150Z
LAST-MODIFIED:20230922T035151Z
UID:241461-1698773400-1698773400@www.portnoarps.sa.edu.au
SUMMARY:Governing Council
DESCRIPTION:Governing Council meeting 5:30pm in the Library.
URL:https://www.portnoarps.sa.edu.au/event/governing-council-2/
END:VEVENT
END:VCALENDAR