BEGIN:VCALENDAR
VERSION:2.0
PRODID:-//Port Noarlunga Primary School - ECPv6.10.1.1//NONSGML v1.0//EN
CALSCALE:GREGORIAN
METHOD:PUBLISH
X-WR-CALNAME:Port Noarlunga Primary School
X-ORIGINAL-URL:https://www.portnoarps.sa.edu.au
X-WR-CALDESC:Events for Port Noarlunga Primary School
REFRESH-INTERVAL;VALUE=DURATION:PT1H
X-Robots-Tag:noindex
X-PUBLISHED-TTL:PT1H
BEGIN:VTIMEZONE
TZID:Australia/Adelaide
BEGIN:STANDARD
TZOFFSETFROM:+1030
TZOFFSETTO:+0930
TZNAME:ACST
DTSTART:20260404T163000
END:STANDARD
BEGIN:DAYLIGHT
TZOFFSETFROM:+0930
TZOFFSETTO:+1030
TZNAME:ACDT
DTSTART:20261003T163000
END:DAYLIGHT
END:VTIMEZONE
BEGIN:VEVENT
DTSTART;TZID=Australia/Adelaide:20260220T120000
DTEND;TZID=Australia/Adelaide:20260220T120000
DTSTAMP:20260422T183439
CREATED:20260129T043024Z
LAST-MODIFIED:20260129T043025Z
UID:243306-1771588800-1771588800@www.portnoarps.sa.edu.au
SUMMARY:2026 School Fees Due
DESCRIPTION:2026 School Fees can be paid on QKR or in person with Business Manager Vicki McCarthy at the front office. \n\n\n\nSee: https://www.portnoarps.sa.edu.au/fees-and-payments/
URL:https://www.portnoarps.sa.edu.au/event/2026-school-fees-due/
END:VEVENT
END:VCALENDAR