BEGIN:VCALENDAR
VERSION:2.0
PRODID:-//Port Noarlunga Primary School - ECPv6.10.1.1//NONSGML v1.0//EN
CALSCALE:GREGORIAN
METHOD:PUBLISH
X-ORIGINAL-URL:https://www.portnoarps.sa.edu.au
X-WR-CALDESC:Events for Port Noarlunga Primary School
REFRESH-INTERVAL;VALUE=DURATION:PT1H
X-Robots-Tag:noindex
X-PUBLISHED-TTL:PT1H
BEGIN:VTIMEZONE
TZID:Australia/Adelaide
BEGIN:STANDARD
TZOFFSETFROM:+1030
TZOFFSETTO:+0930
TZNAME:ACST
DTSTART:20260404T163000
END:STANDARD
BEGIN:DAYLIGHT
TZOFFSETFROM:+0930
TZOFFSETTO:+1030
TZNAME:ACDT
DTSTART:20261003T163000
END:DAYLIGHT
END:VTIMEZONE
BEGIN:VEVENT
DTSTART;TZID=Australia/Adelaide:20260210T160000
DTEND;TZID=Australia/Adelaide:20260210T180000
DTSTAMP:20260422T183649
CREATED:20260120T001852Z
LAST-MODIFIED:20260202T023752Z
UID:243240-1770739200-1770746400@www.portnoarps.sa.edu.au
SUMMARY:Parent Expo 2026
DESCRIPTION:Come along to our Parent Expo Open Night on Tuesday February 10th\, from 4-6pm.
URL:https://www.portnoarps.sa.edu.au/event/parent-expo-2026/
END:VEVENT
BEGIN:VEVENT
DTSTART;TZID=Australia/Adelaide:20260210T180000
DTEND;TZID=Australia/Adelaide:20260210T180000
DTSTAMP:20260422T183649
CREATED:20260120T001211Z
LAST-MODIFIED:20260127T215957Z
UID:243238-1770746400-1770746400@www.portnoarps.sa.edu.au
SUMMARY:2026 AGM
DESCRIPTION:The Annual General Meeting for 2026 will be held on Tuesday 10 February from 6 pm in the Library. This is immediately following the Parent Expo open night. Governing Council members will be elected at this meeting. \n\n\n\nWe invite any family members to nominate for Governing Council this year by contacting teh school ahead of the meeting. \n\n\n\n8382 2455 or email.
URL:https://www.portnoarps.sa.edu.au/event/2026-agm/
END:VEVENT
END:VCALENDAR