BEGIN:VCALENDAR
VERSION:2.0
PRODID:-//Port Noarlunga Primary School - ECPv6.10.1.1//NONSGML v1.0//EN
CALSCALE:GREGORIAN
METHOD:PUBLISH
X-ORIGINAL-URL:https://www.portnoarps.sa.edu.au
X-WR-CALDESC:Events for Port Noarlunga Primary School
REFRESH-INTERVAL;VALUE=DURATION:PT1H
X-Robots-Tag:noindex
X-PUBLISHED-TTL:PT1H
BEGIN:VTIMEZONE
TZID:Australia/Adelaide
BEGIN:STANDARD
TZOFFSETFROM:+1030
TZOFFSETTO:+0930
TZNAME:ACST
DTSTART:20250405T163000
END:STANDARD
BEGIN:DAYLIGHT
TZOFFSETFROM:+0930
TZOFFSETTO:+1030
TZNAME:ACDT
DTSTART:20251004T163000
END:DAYLIGHT
END:VTIMEZONE
BEGIN:VEVENT
DTSTART;TZID=Australia/Adelaide:20250828T183000
DTEND;TZID=Australia/Adelaide:20250828T183000
DTSTAMP:20260423T040820
CREATED:20250729T033516Z
LAST-MODIFIED:20250729T060539Z
UID:242903-1756405800-1756405800@www.portnoarps.sa.edu.au
SUMMARY:Music Night Performance
DESCRIPTION:Join us for an musical evening as Port Noarlunga Primary School students showcases the exceptional talents of our Choir\, String students and other Instrumental talent. Music Night will take place on Thursday\, Week 6\, August 28th\, starting at 6:30 pm in the Gym. \n\n\n\nWe look forward to welcoming you to an unforgettable night of music! \n\n\n\nStudents of Port Noarlunga Primary school who learn an instrument outside of school time and would like to express interest to perform at PNPS Music Night 2025 can register interest using this link: https://bit.ly/PNPSMusicNight  \n\n\n\n* Last date for expressions of intrest is Friday 15th August. \n\n\n\nSusie Chandler – Performing Arts Teacher
URL:https://www.portnoarps.sa.edu.au/event/music-night-performance/
END:VEVENT
END:VCALENDAR