BEGIN:VCALENDAR
VERSION:2.0
PRODID:-//Port Noarlunga Primary School - ECPv6.10.1.1//NONSGML v1.0//EN
CALSCALE:GREGORIAN
METHOD:PUBLISH
X-WR-CALNAME:Port Noarlunga Primary School
X-ORIGINAL-URL:https://www.portnoarps.sa.edu.au
X-WR-CALDESC:Events for Port Noarlunga Primary School
REFRESH-INTERVAL;VALUE=DURATION:PT1H
X-Robots-Tag:noindex
X-PUBLISHED-TTL:PT1H
BEGIN:VTIMEZONE
TZID:Australia/Adelaide
BEGIN:STANDARD
TZOFFSETFROM:+1030
TZOFFSETTO:+0930
TZNAME:ACST
DTSTART:20250405T163000
END:STANDARD
BEGIN:DAYLIGHT
TZOFFSETFROM:+0930
TZOFFSETTO:+1030
TZNAME:ACDT
DTSTART:20251004T163000
END:DAYLIGHT
END:VTIMEZONE
BEGIN:VEVENT
DTSTART;TZID=Australia/Adelaide:20250610T083000
DTEND;TZID=Australia/Adelaide:20250610T151000
DTSTAMP:20260423T071717
CREATED:20250505T031808Z
LAST-MODIFIED:20250522T024315Z
UID:242750-1749544200-1749568200@www.portnoarps.sa.edu.au
SUMMARY:School Photos
DESCRIPTION:Tuesday 10th June is Schol Photos Day at Porties. All students have their portrait taken and sit for a class group photo. \n\n\n\nOrders are placed online using these instructions:  \n\n\n\n\n\n\n\n\n\n\n\nContact MSP Photography directly with any queries about ordering photos: 8391 3951 \n\n\n\nCATCH-UP DAY: Anyone absent on photo day will have their portrait taken the following week\, on Tuesday 17th June\, before recess. \n\n\n\nThe Mid-Year Reception class will have their class photo and portraits taken in Term 3. (Date to be confirmed.)
URL:https://www.portnoarps.sa.edu.au/event/school-photos-4/
END:VEVENT
END:VCALENDAR