BEGIN:VCALENDAR
VERSION:2.0
PRODID:-//Port Noarlunga Primary School - ECPv6.10.1.1//NONSGML v1.0//EN
CALSCALE:GREGORIAN
METHOD:PUBLISH
X-WR-CALNAME:Port Noarlunga Primary School
X-ORIGINAL-URL:https://www.portnoarps.sa.edu.au
X-WR-CALDESC:Events for Port Noarlunga Primary School
REFRESH-INTERVAL;VALUE=DURATION:PT1H
X-Robots-Tag:noindex
X-PUBLISHED-TTL:PT1H
BEGIN:VTIMEZONE
TZID:Australia/Adelaide
BEGIN:STANDARD
TZOFFSETFROM:+1030
TZOFFSETTO:+0930
TZNAME:ACST
DTSTART:20250405T163000
END:STANDARD
BEGIN:DAYLIGHT
TZOFFSETFROM:+0930
TZOFFSETTO:+1030
TZNAME:ACDT
DTSTART:20251004T163000
END:DAYLIGHT
END:VTIMEZONE
BEGIN:VEVENT
DTSTART;TZID=Australia/Adelaide:20250411T141500
DTEND;TZID=Australia/Adelaide:20250411T141500
DTSTAMP:20260423T100857
CREATED:20250120T010854Z
LAST-MODIFIED:20250120T010855Z
UID:242431-1744380900-1744380900@www.portnoarps.sa.edu.au
SUMMARY:Early Dismissal 2:15pm
DESCRIPTION:Students are dismissed early at 2:15pm on Friday\, 11th April for the last day of Term 1. OSHC resumes as normal if already booked. \n\n\n\nSchool resumes in Term 2 from Monday\, 28th April.
URL:https://www.portnoarps.sa.edu.au/event/early-dismissal-215pm-5/
END:VEVENT
END:VCALENDAR