BEGIN:VCALENDAR
VERSION:2.0
PRODID:-//Port Noarlunga Primary School - ECPv6.10.1.1//NONSGML v1.0//EN
CALSCALE:GREGORIAN
METHOD:PUBLISH
X-ORIGINAL-URL:https://www.portnoarps.sa.edu.au
X-WR-CALDESC:Events for Port Noarlunga Primary School
REFRESH-INTERVAL;VALUE=DURATION:PT1H
X-Robots-Tag:noindex
X-PUBLISHED-TTL:PT1H
BEGIN:VTIMEZONE
TZID:Australia/Adelaide
BEGIN:STANDARD
TZOFFSETFROM:+1030
TZOFFSETTO:+0930
TZNAME:ACST
DTSTART:20250405T163000
END:STANDARD
BEGIN:DAYLIGHT
TZOFFSETFROM:+0930
TZOFFSETTO:+1030
TZNAME:ACDT
DTSTART:20251004T163000
END:DAYLIGHT
END:VTIMEZONE
BEGIN:VEVENT
DTSTART;TZID=Australia/Adelaide:20250307T000000
DTEND;TZID=Australia/Adelaide:20250307T235959
DTSTAMP:20260423T113517
CREATED:20250120T005932Z
LAST-MODIFIED:20250120T005934Z
UID:242421-1741305600-1741391999@www.portnoarps.sa.edu.au
SUMMARY:Student Free Day
DESCRIPTION:Friday\, 7th March 2025 is a Student Free Day at Port Noarlunga Primary. OSHC services are available if already booked.
URL:https://www.portnoarps.sa.edu.au/event/student-free-day-8/
END:VEVENT
END:VCALENDAR