BEGIN:VCALENDAR
VERSION:2.0
PRODID:-//Port Noarlunga Primary School - ECPv6.10.1.1//NONSGML v1.0//EN
CALSCALE:GREGORIAN
METHOD:PUBLISH
X-ORIGINAL-URL:https://www.portnoarps.sa.edu.au
X-WR-CALDESC:Events for Port Noarlunga Primary School
REFRESH-INTERVAL;VALUE=DURATION:PT1H
X-Robots-Tag:noindex
X-PUBLISHED-TTL:PT1H
BEGIN:VTIMEZONE
TZID:Australia/Adelaide
BEGIN:STANDARD
TZOFFSETFROM:+1030
TZOFFSETTO:+0930
TZNAME:ACST
DTSTART:20250405T163000
END:STANDARD
BEGIN:DAYLIGHT
TZOFFSETFROM:+0930
TZOFFSETTO:+1030
TZNAME:ACDT
DTSTART:20251004T163000
END:DAYLIGHT
END:VTIMEZONE
BEGIN:VEVENT
DTSTART;TZID=Australia/Adelaide:20250211T143000
DTEND;TZID=Australia/Adelaide:20250211T143000
DTSTAMP:20260423T130427
CREATED:20250120T005300Z
LAST-MODIFIED:20250120T005302Z
UID:242419-1739284200-1739284200@www.portnoarps.sa.edu.au
SUMMARY:Assembly
DESCRIPTION:Join us for the first Assembly of the year from 2:30pm in the Gym.
URL:https://www.portnoarps.sa.edu.au/event/assembly-8/
END:VEVENT
BEGIN:VEVENT
DTSTART;TZID=Australia/Adelaide:20250211T154500
DTEND;TZID=Australia/Adelaide:20250211T170000
DTSTAMP:20260423T130427
CREATED:20250203T042906Z
LAST-MODIFIED:20250203T224507Z
UID:242478-1739288700-1739293200@www.portnoarps.sa.edu.au
SUMMARY:Porties Parent Expo 2025
DESCRIPTION:Join us in the Gym between 3:45 and 5PM on Tuesday\, 11th February for an opportunity to learn about our school programs and meet teaching staff. Visit various booths to get key information. \n\n\n\nImmediately followed by the AGM 5PM in the Library.
URL:https://www.portnoarps.sa.edu.au/event/porties-parent-expo-2025/
END:VEVENT
BEGIN:VEVENT
DTSTART;TZID=Australia/Adelaide:20250211T170000
DTEND;TZID=Australia/Adelaide:20250211T170000
DTSTAMP:20260423T130427
CREATED:20250120T004125Z
LAST-MODIFIED:20250120T004126Z
UID:242417-1739293200-1739293200@www.portnoarps.sa.edu.au
SUMMARY:2025 AGM Governing Council
DESCRIPTION:Annual General Meeting to elect members of Governing Council for the year. The 2025 AGM will be held in the Library on Tuesday\, 11th February at 5PM. \n\n\n\nTo nominate your participation\, and/or to RSVP for the meeting\, please email here or phone 8382 2455.
URL:https://www.portnoarps.sa.edu.au/event/2025-agm-governing-council/
END:VEVENT
END:VCALENDAR