BEGIN:VCALENDAR
VERSION:2.0
PRODID:-//Port Noarlunga Primary School - ECPv6.10.1.1//NONSGML v1.0//EN
CALSCALE:GREGORIAN
METHOD:PUBLISH
X-WR-CALNAME:Port Noarlunga Primary School
X-ORIGINAL-URL:https://www.portnoarps.sa.edu.au
X-WR-CALDESC:Events for Port Noarlunga Primary School
REFRESH-INTERVAL;VALUE=DURATION:PT1H
X-Robots-Tag:noindex
X-PUBLISHED-TTL:PT1H
BEGIN:VTIMEZONE
TZID:Australia/Adelaide
BEGIN:STANDARD
TZOFFSETFROM:+1030
TZOFFSETTO:+0930
TZNAME:ACST
DTSTART:20240406T163000
END:STANDARD
BEGIN:DAYLIGHT
TZOFFSETFROM:+0930
TZOFFSETTO:+1030
TZNAME:ACDT
DTSTART:20241005T163000
END:DAYLIGHT
END:VTIMEZONE
BEGIN:VEVENT
DTSTART;TZID=Australia/Adelaide:20241213T141500
DTEND;TZID=Australia/Adelaide:20241213T141500
DTSTAMP:20260423T160750
CREATED:20241023T040603Z
LAST-MODIFIED:20241023T040604Z
UID:242380-1734099300-1734099300@www.portnoarps.sa.edu.au
SUMMARY:Early Dismissal 2:15pm - Last Day of School 2024
DESCRIPTION:Students are dismissed at 2:15pm for the last school day of 2024\, immediately following the Year 6 Guard of Honour. \n\n\n\nOSHC resumes as normal if already booked.
URL:https://www.portnoarps.sa.edu.au/event/early-dismissal-215pm-last-day-of-school-2024/
END:VEVENT
END:VCALENDAR