BEGIN:VCALENDAR
VERSION:2.0
PRODID:-//Port Noarlunga Primary School - ECPv6.10.1.1//NONSGML v1.0//EN
CALSCALE:GREGORIAN
METHOD:PUBLISH
X-WR-CALNAME:Port Noarlunga Primary School
X-ORIGINAL-URL:https://www.portnoarps.sa.edu.au
X-WR-CALDESC:Events for Port Noarlunga Primary School
REFRESH-INTERVAL;VALUE=DURATION:PT1H
X-Robots-Tag:noindex
X-PUBLISHED-TTL:PT1H
BEGIN:VTIMEZONE
TZID:Australia/Adelaide
BEGIN:STANDARD
TZOFFSETFROM:+1030
TZOFFSETTO:+0930
TZNAME:ACST
DTSTART:20240406T163000
END:STANDARD
BEGIN:DAYLIGHT
TZOFFSETFROM:+0930
TZOFFSETTO:+1030
TZNAME:ACDT
DTSTART:20241005T163000
END:DAYLIGHT
END:VTIMEZONE
BEGIN:VEVENT
DTSTART;TZID=Australia/Adelaide:20241211T123000
DTEND;TZID=Australia/Adelaide:20241211T130000
DTSTAMP:20260423T160813
CREATED:20241023T040410Z
LAST-MODIFIED:20241023T040411Z
UID:242378-1733920200-1733922000@www.portnoarps.sa.edu.au
SUMMARY:Whole School Picnic
DESCRIPTION:Bring a lunch and enjoy our annual Whole School Picnic on the oval from 12:30pm until 1:00pm
URL:https://www.portnoarps.sa.edu.au/event/whole-school-picnic/
END:VEVENT
END:VCALENDAR