BEGIN:VCALENDAR
VERSION:2.0
PRODID:-//Port Noarlunga Primary School - ECPv6.10.1.1//NONSGML v1.0//EN
CALSCALE:GREGORIAN
METHOD:PUBLISH
X-ORIGINAL-URL:https://www.portnoarps.sa.edu.au
X-WR-CALDESC:Events for Port Noarlunga Primary School
REFRESH-INTERVAL;VALUE=DURATION:PT1H
X-Robots-Tag:noindex
X-PUBLISHED-TTL:PT1H
BEGIN:VTIMEZONE
TZID:Australia/Adelaide
BEGIN:STANDARD
TZOFFSETFROM:+1030
TZOFFSETTO:+0930
TZNAME:ACST
DTSTART:20240406T163000
END:STANDARD
BEGIN:DAYLIGHT
TZOFFSETFROM:+0930
TZOFFSETTO:+1030
TZNAME:ACDT
DTSTART:20241005T163000
END:DAYLIGHT
END:VTIMEZONE
BEGIN:VEVENT
DTSTART;TZID=Australia/Adelaide:20240702T085000
DTEND;TZID=Australia/Adelaide:20240702T150000
DTSTAMP:20260423T235523
CREATED:20240412T052605Z
LAST-MODIFIED:20240501T025343Z
UID:242065-1719910200-1719932400@www.portnoarps.sa.edu.au
SUMMARY:Dion Drummond Performances (incursion)
DESCRIPTION:Special performances for the whole school by Dion Drummond in our school gym.
URL:https://www.portnoarps.sa.edu.au/event/dion-drummond-performances-incursion/
END:VEVENT
END:VCALENDAR