BEGIN:VCALENDAR
VERSION:2.0
PRODID:-//Port Noarlunga Primary School - ECPv6.10.1.1//NONSGML v1.0//EN
CALSCALE:GREGORIAN
METHOD:PUBLISH
X-WR-CALNAME:Port Noarlunga Primary School
X-ORIGINAL-URL:https://www.portnoarps.sa.edu.au
X-WR-CALDESC:Events for Port Noarlunga Primary School
REFRESH-INTERVAL;VALUE=DURATION:PT1H
X-Robots-Tag:noindex
X-PUBLISHED-TTL:PT1H
BEGIN:VTIMEZONE
TZID:Australia/Adelaide
BEGIN:STANDARD
TZOFFSETFROM:+1030
TZOFFSETTO:+0930
TZNAME:ACST
DTSTART:20240406T163000
END:STANDARD
BEGIN:DAYLIGHT
TZOFFSETFROM:+0930
TZOFFSETTO:+1030
TZNAME:ACDT
DTSTART:20241005T163000
END:DAYLIGHT
END:VTIMEZONE
BEGIN:VEVENT
DTSTART;TZID=Australia/Adelaide:20240523T170000
DTEND;TZID=Australia/Adelaide:20240523T190000
DTSTAMP:20260424T025559
CREATED:20240318T002308Z
LAST-MODIFIED:20240508T005346Z
UID:241762-1716483600-1716490800@www.portnoarps.sa.edu.au
SUMMARY:Whole School Disco (2024)
DESCRIPTION:The Porties 2024 whole school disco is set for Thursday\, 23rd of May (Term 2). \n\n\n\nStarting at 5PM and finishing at 7PM \n\n\n\nIn the Gym \n\n\n\n$2 Entry \n\n\n\n$5 snack-pack: Chips\, PopTop Juice\, and a packet of lollies \n\n\n\nAvailable to pre-purchase on the QKR app! (Under “School Events”) \n\n\n\nORDERS CLOSE MAY 20TH. \n\n\n\nPNPS students only\, thank you.
URL:https://www.portnoarps.sa.edu.au/event/whole-school-disco-2024/
END:VEVENT
END:VCALENDAR