BEGIN:VCALENDAR
VERSION:2.0
PRODID:-//Port Noarlunga Primary School - ECPv6.10.1.1//NONSGML v1.0//EN
CALSCALE:GREGORIAN
METHOD:PUBLISH
X-WR-CALNAME:Port Noarlunga Primary School
X-ORIGINAL-URL:https://www.portnoarps.sa.edu.au
X-WR-CALDESC:Events for Port Noarlunga Primary School
REFRESH-INTERVAL;VALUE=DURATION:PT1H
X-Robots-Tag:noindex
X-PUBLISHED-TTL:PT1H
BEGIN:VTIMEZONE
TZID:Australia/Adelaide
BEGIN:STANDARD
TZOFFSETFROM:+1030
TZOFFSETTO:+0930
TZNAME:ACST
DTSTART:20240406T163000
END:STANDARD
BEGIN:DAYLIGHT
TZOFFSETFROM:+0930
TZOFFSETTO:+1030
TZNAME:ACDT
DTSTART:20241005T163000
END:DAYLIGHT
END:VTIMEZONE
BEGIN:VEVENT
DTSTART;TZID=Australia/Adelaide:20240521T110000
DTEND;TZID=Australia/Adelaide:20240521T150000
DTSTAMP:20260424T025558
CREATED:20240412T051807Z
LAST-MODIFIED:20240501T025445Z
UID:242057-1716289200-1716303600@www.portnoarps.sa.edu.au
SUMMARY:Traffic Safety Talk (SAPOL)
DESCRIPTION:SA Police will visit the school and train students on traffic safety. \n\n\n\n(Morning) School Crossing Monitor duties– classes head out to the crossing individually to learn how to safely cross the road with an officer. \n\n\n\nReception to Year 3 – (middle day) Keeping safe on the road – introduction to road safety. \n\n\n\nYear 4 to Year 6 – (afternoon) Road safety with SA Police – introduction to road safety.
URL:https://www.portnoarps.sa.edu.au/event/traffic-safety-talk-sapol/
END:VEVENT
END:VCALENDAR