BEGIN:VCALENDAR
VERSION:2.0
PRODID:-//Port Noarlunga Primary School - ECPv6.10.1.1//NONSGML v1.0//EN
CALSCALE:GREGORIAN
METHOD:PUBLISH
X-ORIGINAL-URL:https://www.portnoarps.sa.edu.au
X-WR-CALDESC:Events for Port Noarlunga Primary School
REFRESH-INTERVAL;VALUE=DURATION:PT1H
X-Robots-Tag:noindex
X-PUBLISHED-TTL:PT1H
BEGIN:VTIMEZONE
TZID:Australia/Adelaide
BEGIN:STANDARD
TZOFFSETFROM:+1030
TZOFFSETTO:+0930
TZNAME:ACST
DTSTART:20240406T163000
END:STANDARD
BEGIN:DAYLIGHT
TZOFFSETFROM:+0930
TZOFFSETTO:+1030
TZNAME:ACDT
DTSTART:20241005T163000
END:DAYLIGHT
END:VTIMEZONE
BEGIN:VEVENT
DTSTART;TZID=Australia/Adelaide:20240509T081500
DTEND;TZID=Australia/Adelaide:20240509T150000
DTSTAMP:20260424T031546
CREATED:20240412T051157Z
LAST-MODIFIED:20240501T025446Z
UID:242055-1715242500-1715266800@www.portnoarps.sa.edu.au
SUMMARY:District Cross Country
DESCRIPTION:Permission slips will be sent via email to attend SAPSASA District Cross Country carnival.
URL:https://www.portnoarps.sa.edu.au/event/district-cross-country/
END:VEVENT
END:VCALENDAR