BEGIN:VCALENDAR
VERSION:2.0
PRODID:-//Port Noarlunga Primary School - ECPv6.10.1.1//NONSGML v1.0//EN
CALSCALE:GREGORIAN
METHOD:PUBLISH
X-WR-CALNAME:Port Noarlunga Primary School
X-ORIGINAL-URL:https://www.portnoarps.sa.edu.au
X-WR-CALDESC:Events for Port Noarlunga Primary School
REFRESH-INTERVAL;VALUE=DURATION:PT1H
X-Robots-Tag:noindex
X-PUBLISHED-TTL:PT1H
BEGIN:VTIMEZONE
TZID:Australia/Adelaide
BEGIN:STANDARD
TZOFFSETFROM:+1030
TZOFFSETTO:+0930
TZNAME:ACST
DTSTART:20240406T163000
END:STANDARD
BEGIN:DAYLIGHT
TZOFFSETFROM:+0930
TZOFFSETTO:+1030
TZNAME:ACDT
DTSTART:20241005T163000
END:DAYLIGHT
END:VTIMEZONE
BEGIN:VEVENT
DTSTART;TZID=Australia/Adelaide:20240228T085000
DTEND;TZID=Australia/Adelaide:20240228T150000
DTSTAMP:20260424T062439
CREATED:20240212T040747Z
LAST-MODIFIED:20240501T025451Z
UID:241670-1709110200-1709132400@www.portnoarps.sa.edu.au
SUMMARY:Youth Leadership Day
DESCRIPTION:Young Leaders will attend a special day at the Adelaide Convention Centre. Excursion permission and information sent via email.
URL:https://www.portnoarps.sa.edu.au/event/youth-leadership-day/
END:VEVENT
END:VCALENDAR