BEGIN:VCALENDAR
VERSION:2.0
PRODID:-//Port Noarlunga Primary School - ECPv6.10.1.1//NONSGML v1.0//EN
CALSCALE:GREGORIAN
METHOD:PUBLISH
X-WR-CALNAME:Port Noarlunga Primary School
X-ORIGINAL-URL:https://www.portnoarps.sa.edu.au
X-WR-CALDESC:Events for Port Noarlunga Primary School
REFRESH-INTERVAL;VALUE=DURATION:PT1H
X-Robots-Tag:noindex
X-PUBLISHED-TTL:PT1H
BEGIN:VTIMEZONE
TZID:Australia/Adelaide
BEGIN:STANDARD
TZOFFSETFROM:+1030
TZOFFSETTO:+0930
TZNAME:ACST
DTSTART:20240406T163000
END:STANDARD
BEGIN:DAYLIGHT
TZOFFSETFROM:+0930
TZOFFSETTO:+1030
TZNAME:ACDT
DTSTART:20241005T163000
END:DAYLIGHT
END:VTIMEZONE
BEGIN:VEVENT
DTSTART;TZID=Australia/Adelaide:20240205T080000
DTEND;TZID=Australia/Adelaide:20240223T170000
DTSTAMP:20260424T075834
CREATED:20240205T020854Z
LAST-MODIFIED:20240205T020855Z
UID:241609-1707120000-1708707600@www.portnoarps.sa.edu.au
SUMMARY:Parent Teacher Interviews - Term 1 2024
DESCRIPTION:BOOKINGS CLOSE: Friday\, 9th February \n\n\n\nINTERVIEWS HELD: Weeks 2\, 4\, and 4 of Term 1 \n\n\n\nHOW: Book online: \n\n\n\n\nVisit www.schoolinterviews.com.au\n\n\n\nClick MAKE A BOOKING\n\n\n\nEnter the vent code: ej876\n\n\n\nIf you feel you require longer than a 15 minute booking\, please liase with the classroom teacher.\n\n\n\n\nPDF flyer: https://www.portnoarps.sa.edu.au/wp-content/uploads/2024/02/Parent-Teacher-Interviews-2024-copy.pdf
URL:https://www.portnoarps.sa.edu.au/event/parent-teacher-interviews-term-1-2024/
END:VEVENT
BEGIN:VEVENT
DTSTART;TZID=Australia/Adelaide:20240206T163000
DTEND;TZID=Australia/Adelaide:20240206T173000
DTSTAMP:20260424T075834
CREATED:20240205T012613Z
LAST-MODIFIED:20240205T012807Z
UID:241607-1707237000-1707240600@www.portnoarps.sa.edu.au
SUMMARY:Open Night 2024
DESCRIPTION:Come along and start off 2024 by visiting classrooms\, indoor and outdoor learning areas of our school with your children. \n\n\n\nEvent Flyer: https://www.portnoarps.sa.edu.au/wp-content/uploads/2024/02/Open-Night-2024.pdf
URL:https://www.portnoarps.sa.edu.au/event/open-night-2024/
END:VEVENT
BEGIN:VEVENT
DTSTART;TZID=Australia/Adelaide:20240206T173000
DTEND;TZID=Australia/Adelaide:20240206T183000
DTSTAMP:20260424T075834
CREATED:20240205T011852Z
LAST-MODIFIED:20240205T012802Z
UID:241604-1707240600-1707244200@www.portnoarps.sa.edu.au
SUMMARY:AGM
DESCRIPTION:Taking place immediately after the 2024 Open Night\, stay to attend our AGM and nominate to join the Governing Council committee for 2024. We value your voice and participation. \n\n\n\nRSVP for the AGM and book creche: 8382 2455 or emaildl.0362.admin@schools.sa.edu.au
URL:https://www.portnoarps.sa.edu.au/event/agm/
END:VEVENT
END:VCALENDAR