BEGIN:VCALENDAR
VERSION:2.0
PRODID:-//Port Noarlunga Primary School - ECPv6.10.1.1//NONSGML v1.0//EN
CALSCALE:GREGORIAN
METHOD:PUBLISH
X-WR-CALNAME:Port Noarlunga Primary School
X-ORIGINAL-URL:https://www.portnoarps.sa.edu.au
X-WR-CALDESC:Events for Port Noarlunga Primary School
REFRESH-INTERVAL;VALUE=DURATION:PT1H
X-Robots-Tag:noindex
X-PUBLISHED-TTL:PT1H
BEGIN:VTIMEZONE
TZID:Australia/Adelaide
BEGIN:STANDARD
TZOFFSETFROM:+1030
TZOFFSETTO:+0930
TZNAME:ACST
DTSTART:20230401T163000
END:STANDARD
BEGIN:DAYLIGHT
TZOFFSETFROM:+0930
TZOFFSETTO:+1030
TZNAME:ACDT
DTSTART:20230930T163000
END:DAYLIGHT
END:VTIMEZONE
BEGIN:VEVENT
DTSTART;TZID=Australia/Adelaide:20231212T170000
DTEND;TZID=Australia/Adelaide:20231212T190000
DTSTAMP:20260424T110159
CREATED:20230922T035756Z
LAST-MODIFIED:20230922T035855Z
UID:241466-1702400400-1702407600@www.portnoarps.sa.edu.au
SUMMARY:Year 6 Graduation - Tues\, 12th December at 5pm
DESCRIPTION:Year 6 Graduation at South Adelaide Football Club. \n\n\n\n5pm for dinner (students only). \n\n\n\nCeremony from 6pm. Parents must confirm attendance.
URL:https://www.portnoarps.sa.edu.au/event/year-6-graduation/
END:VEVENT
END:VCALENDAR