BEGIN:VCALENDAR
VERSION:2.0
PRODID:-//Port Noarlunga Primary School - ECPv6.10.1.1//NONSGML v1.0//EN
CALSCALE:GREGORIAN
METHOD:PUBLISH
X-WR-CALNAME:Port Noarlunga Primary School
X-ORIGINAL-URL:https://www.portnoarps.sa.edu.au
X-WR-CALDESC:Events for Port Noarlunga Primary School
REFRESH-INTERVAL;VALUE=DURATION:PT1H
X-Robots-Tag:noindex
X-PUBLISHED-TTL:PT1H
BEGIN:VTIMEZONE
TZID:Australia/Adelaide
BEGIN:STANDARD
TZOFFSETFROM:+1030
TZOFFSETTO:+0930
TZNAME:ACST
DTSTART:20230401T163000
END:STANDARD
BEGIN:DAYLIGHT
TZOFFSETFROM:+0930
TZOFFSETTO:+1030
TZNAME:ACDT
DTSTART:20230930T163000
END:DAYLIGHT
END:VTIMEZONE
BEGIN:VEVENT
DTSTART;TZID=Australia/Adelaide:20230929T133000
DTEND;TZID=Australia/Adelaide:20230929T141500
DTSTAMP:20260424T134624
CREATED:20230804T043232Z
LAST-MODIFIED:20230927T030804Z
UID:241284-1695994200-1695996900@www.portnoarps.sa.edu.au
SUMMARY:Colour Fun Run
DESCRIPTION:Bring a white T-shirt and get splashed with colour during the FUN RUN to celebrate the last day of Term 3! \n\n\n\nStudents have received their sponsorship booklet and can now create their online profile at www.australianfundraising.com.au. \n\n\n\nBig prizes are up for grabs! Unlock your first incentive prize simply by raising $10 online. The more your child raises\, the more prizes they will receive. \n\n\n\nYou can also share in $200k of extra prize credit\, win a PlayStation 5 Gaming Bundle and become a Fundraising MonSTAR! ⭐ \n\n\n\nParents are welcome to attend the Colour Fun Run this Friday to celebrate the end of Term 3. Students begin running at 1:30pm. Wear a white shirt for the colour explosion! \n\n\n\n⚠️ IMPORTANT REMINDERS ⚠️ \n\n\n\n\nPhotograph your child ONLY.No large group photos containing other children.Be mindful of sharing images on social media. YOUR CHILD ONLY. \n\n\n\n\nReminder of early dismissal at 2:15pm
URL:https://www.portnoarps.sa.edu.au/event/colour-fun-run-2023/
END:VEVENT
BEGIN:VEVENT
DTSTART;TZID=Australia/Adelaide:20230929T141500
DTEND;TZID=Australia/Adelaide:20230929T141500
DTSTAMP:20260424T134624
CREATED:20230804T043623Z
LAST-MODIFIED:20230804T043711Z
UID:241286-1695996900-1695996900@www.portnoarps.sa.edu.au
SUMMARY:Early Dismissal - 2:15pm
DESCRIPTION:Early Dismissal for the last day of Term 3\, students are dismissed at 2:15pm
URL:https://www.portnoarps.sa.edu.au/event/early-dismissal-215pm-3/
END:VEVENT
END:VCALENDAR