BEGIN:VCALENDAR
VERSION:2.0
PRODID:-//Port Noarlunga Primary School - ECPv6.10.1.1//NONSGML v1.0//EN
CALSCALE:GREGORIAN
METHOD:PUBLISH
X-ORIGINAL-URL:https://www.portnoarps.sa.edu.au
X-WR-CALDESC:Events for Port Noarlunga Primary School
REFRESH-INTERVAL;VALUE=DURATION:PT1H
X-Robots-Tag:noindex
X-PUBLISHED-TTL:PT1H
BEGIN:VTIMEZONE
TZID:Australia/Adelaide
BEGIN:STANDARD
TZOFFSETFROM:+1030
TZOFFSETTO:+0930
TZNAME:ACST
DTSTART:20230401T163000
END:STANDARD
BEGIN:DAYLIGHT
TZOFFSETFROM:+0930
TZOFFSETTO:+1030
TZNAME:ACDT
DTSTART:20230930T163000
END:DAYLIGHT
END:VTIMEZONE
BEGIN:VEVENT
DTSTART;TZID=Australia/Adelaide:20230920T104000
DTEND;TZID=Australia/Adelaide:20230920T104000
DTSTAMP:20260424T152002
CREATED:20230908T030549Z
LAST-MODIFIED:20230908T030550Z
UID:241418-1695206400-1695206400@www.portnoarps.sa.edu.au
SUMMARY:Cake and Cookie Sale
DESCRIPTION:WHEN: Wednesday\, 20th September\, Week 9. \n\n\n\nWHERE: Room 10-1 Mrs Sander/Mr B’s year 4/5 class \n\n\n\nWHY: To raise funds for children’s charities \n\n\n\nALL DONATIONS GRATEFULLY RECEIVED! Please bring items on the day. Including for gluten free\, dairy free\, vegetarian\, vegan diets. Shop bought or home-made. \n\n\n\nItems will be priced from $1 and sold at recess.
URL:https://www.portnoarps.sa.edu.au/event/cake-and-cookie-sale/
END:VEVENT
BEGIN:VEVENT
DTSTART;TZID=Australia/Adelaide:20230920T143000
DTEND;TZID=Australia/Adelaide:20230920T151000
DTSTAMP:20260424T152002
CREATED:20230804T010047Z
LAST-MODIFIED:20230804T010122Z
UID:241276-1695220200-1695222600@www.portnoarps.sa.edu.au
SUMMARY:Assembly - 20th September 2023
DESCRIPTION:Week 9 Assembly in the gym from 2:30 until the end of school. Parents welcome to attend.
URL:https://www.portnoarps.sa.edu.au/event/assembly-20th-september-2023/
END:VEVENT
END:VCALENDAR