BEGIN:VCALENDAR
VERSION:2.0
PRODID:-//Port Noarlunga Primary School - ECPv6.10.1.1//NONSGML v1.0//EN
CALSCALE:GREGORIAN
METHOD:PUBLISH
X-ORIGINAL-URL:https://www.portnoarps.sa.edu.au
X-WR-CALDESC:Events for Port Noarlunga Primary School
REFRESH-INTERVAL;VALUE=DURATION:PT1H
X-Robots-Tag:noindex
X-PUBLISHED-TTL:PT1H
BEGIN:VTIMEZONE
TZID:Australia/Adelaide
BEGIN:STANDARD
TZOFFSETFROM:+1030
TZOFFSETTO:+0930
TZNAME:ACST
DTSTART:20230401T163000
END:STANDARD
BEGIN:DAYLIGHT
TZOFFSETFROM:+0930
TZOFFSETTO:+1030
TZNAME:ACDT
DTSTART:20230930T163000
END:DAYLIGHT
END:VTIMEZONE
BEGIN:VEVENT
DTSTART;TZID=Australia/Adelaide:20230830T143000
DTEND;TZID=Australia/Adelaide:20230830T151000
DTSTAMP:20260424T151953
CREATED:20230804T005936Z
LAST-MODIFIED:20230829T213454Z
UID:241274-1693405800-1693408200@www.portnoarps.sa.edu.au
SUMMARY:Assembly - 30th August 2023 - CANCELLED
DESCRIPTION:Week 6 Assembly has ben cancelled today and will not o ahead.
URL:https://www.portnoarps.sa.edu.au/event/assembly-30th-august-2023/
END:VEVENT
END:VCALENDAR