BEGIN:VCALENDAR
VERSION:2.0
PRODID:-//Port Noarlunga Primary School - ECPv6.10.1.1//NONSGML v1.0//EN
CALSCALE:GREGORIAN
METHOD:PUBLISH
X-WR-CALNAME:Port Noarlunga Primary School
X-ORIGINAL-URL:https://www.portnoarps.sa.edu.au
X-WR-CALDESC:Events for Port Noarlunga Primary School
REFRESH-INTERVAL;VALUE=DURATION:PT1H
X-Robots-Tag:noindex
X-PUBLISHED-TTL:PT1H
BEGIN:VTIMEZONE
TZID:Australia/Adelaide
BEGIN:STANDARD
TZOFFSETFROM:+1030
TZOFFSETTO:+0930
TZNAME:ACST
DTSTART:20230401T163000
END:STANDARD
BEGIN:DAYLIGHT
TZOFFSETFROM:+0930
TZOFFSETTO:+1030
TZNAME:ACDT
DTSTART:20230930T163000
END:DAYLIGHT
END:VTIMEZONE
BEGIN:VEVENT
DTSTART;TZID=Australia/Adelaide:20230726T080000
DTEND;TZID=Australia/Adelaide:20230818T170000
DTSTAMP:20260424T165404
CREATED:20230704T001454Z
LAST-MODIFIED:20230704T001454Z
UID:241225-1690358400-1692378000@www.portnoarps.sa.edu.au
SUMMARY:Parent Teacher Interviews - Term 3 2023
DESCRIPTION:Between Wednesday the 26th July\, through to Friday the 18th of August\, teachers will be holding interviews for families to check in on student progress throughout the year. \n\n\n\nAll bookings for these interviews need to be made online. BOOKINGS CLOSE Friday\, 21st July (second week of the school holidays). All interview timeslots remain a first in\, first served scenario.  \n\n\n\nThe timeslots and availability for interviews have been arranged by classroom/specialist teachers and we would appreciate if all interviews can remain within these timeslots as much as possible. \n\n\n\nAll interview times are a set length of 15 minutes. If you feel you will require longer\, we would ask that you negotiate this with the required teacher prior to booking so they can plan accordingly. \n\n\n\nPlease follow the steps below to make a booking and discuss your child’s learning with their classroom or specialist teacher: \n\n\n\nEVENT CODE: 2vaju \n\n\n\n\nVisit www.schoolinterviews.com.au\n\n\n\nSelect the ‘MAKE A BOOKING’ button in the top right hand corner of the website.\n\n\n\nThe event code for all PNPS School Interviews is 2vaju\, please type in this code and click ‘Go’.\n\n\n\nFollow the prompts and drop down boxes to the required teacher and please book your preferred interview time.\n\n\n\n\nTo assist with teacher preparation for interviews\, we ask that interviews are booked by Friday\, July 21st . Any interview times made after this date will require direct communication with the classroom teacher and 48 hours notice.
URL:https://www.portnoarps.sa.edu.au/event/parent-teacher-interviews-term-3-2023/
END:VEVENT
BEGIN:VEVENT
DTSTART;TZID=Australia/Adelaide:20230816T085000
DTEND;TZID=Australia/Adelaide:20230816T151000
DTSTAMP:20260424T165404
CREATED:20230815T005441Z
LAST-MODIFIED:20230815T005609Z
UID:241302-1692175800-1692198600@www.portnoarps.sa.edu.au
SUMMARY:WEAR GREEN AND GOLD
DESCRIPTION:To celebrate the Matildas advancing to the World Cup semi-final\, we invite students to wear GREEN AND GOLD and/or a MATILDAS JERSEY on Wednesday! (16/8) \n\n\n\nIf/WHEN the Matildas win the semi-final on Wednesday to advance\, green and gold will be allowed on Thursday as well! \n\n\n\nPlease note this is NOT a casual clothes day – school uniform is still expected if not wearing green and gold/Matildas jersey. \n\n\n\nWe look forward to seeing GREEN and GOLD across the school in support of our Women’s World Cup tomorrow!
URL:https://www.portnoarps.sa.edu.au/event/wear-green-and-gold/
END:VEVENT
END:VCALENDAR