BEGIN:VCALENDAR
VERSION:2.0
PRODID:-//Port Noarlunga Primary School - ECPv6.10.1.1//NONSGML v1.0//EN
CALSCALE:GREGORIAN
METHOD:PUBLISH
X-WR-CALNAME:Port Noarlunga Primary School
X-ORIGINAL-URL:https://www.portnoarps.sa.edu.au
X-WR-CALDESC:Events for Port Noarlunga Primary School
REFRESH-INTERVAL;VALUE=DURATION:PT1H
X-Robots-Tag:noindex
X-PUBLISHED-TTL:PT1H
BEGIN:VTIMEZONE
TZID:Australia/Adelaide
BEGIN:STANDARD
TZOFFSETFROM:+1030
TZOFFSETTO:+0930
TZNAME:ACST
DTSTART:20230401T163000
END:STANDARD
BEGIN:DAYLIGHT
TZOFFSETFROM:+0930
TZOFFSETTO:+1030
TZNAME:ACDT
DTSTART:20230930T163000
END:DAYLIGHT
END:VTIMEZONE
BEGIN:VEVENT
DTSTART;TZID=Australia/Adelaide:20230629T080000
DTEND;TZID=Australia/Adelaide:20230629T104000
DTSTAMP:20260424T182608
CREATED:20230531T050208Z
LAST-MODIFIED:20240205T012828Z
UID:241135-1688025600-1688035200@www.portnoarps.sa.edu.au
SUMMARY:School Photo catch-up day
DESCRIPTION:MSP Photography return to take portraits for students and families that were absent on photo day. \n\n\n\nAM ONLY — Catch-up photos are typically completed before recess (10:40am).
URL:https://www.portnoarps.sa.edu.au/event/school-photo-catch-up-day/
END:VEVENT
END:VCALENDAR