BEGIN:VCALENDAR
VERSION:2.0
PRODID:-//Port Noarlunga Primary School - ECPv6.10.1.1//NONSGML v1.0//EN
CALSCALE:GREGORIAN
METHOD:PUBLISH
X-WR-CALNAME:Port Noarlunga Primary School
X-ORIGINAL-URL:https://www.portnoarps.sa.edu.au
X-WR-CALDESC:Events for Port Noarlunga Primary School
REFRESH-INTERVAL;VALUE=DURATION:PT1H
X-Robots-Tag:noindex
X-PUBLISHED-TTL:PT1H
BEGIN:VTIMEZONE
TZID:Australia/Adelaide
BEGIN:STANDARD
TZOFFSETFROM:+1030
TZOFFSETTO:+0930
TZNAME:ACST
DTSTART:20230401T163000
END:STANDARD
BEGIN:DAYLIGHT
TZOFFSETFROM:+0930
TZOFFSETTO:+1030
TZNAME:ACDT
DTSTART:20230930T163000
END:DAYLIGHT
END:VTIMEZONE
BEGIN:VEVENT
DTSTART;TZID=Australia/Adelaide:20230616T085000
DTEND;TZID=Australia/Adelaide:20230616T151000
DTSTAMP:20260424T200116
CREATED:20230602T052130Z
LAST-MODIFIED:20240205T012834Z
UID:241152-1686905400-1686928200@www.portnoarps.sa.edu.au
SUMMARY:Dress-Up Day: Be A Hero
DESCRIPTION:Friday 16th June is Be A Hero for Heartkids casual clothes day. \n\n\n\nStudents are able to dress as their favourite superhero or in their superhero colours for the day. \n\n\n\nBring a cold coin donation to raise money for the Heartkids Foundation.
URL:https://www.portnoarps.sa.edu.au/event/dress-up-day-be-a-hero/
END:VEVENT
END:VCALENDAR