BEGIN:VCALENDAR
VERSION:2.0
PRODID:-//Port Noarlunga Primary School - ECPv6.10.1.1//NONSGML v1.0//EN
CALSCALE:GREGORIAN
METHOD:PUBLISH
X-ORIGINAL-URL:https://www.portnoarps.sa.edu.au
X-WR-CALDESC:Events for Port Noarlunga Primary School
REFRESH-INTERVAL;VALUE=DURATION:PT1H
X-Robots-Tag:noindex
X-PUBLISHED-TTL:PT1H
BEGIN:VTIMEZONE
TZID:Australia/Adelaide
BEGIN:STANDARD
TZOFFSETFROM:+1030
TZOFFSETTO:+0930
TZNAME:ACST
DTSTART:20230401T163000
END:STANDARD
BEGIN:DAYLIGHT
TZOFFSETFROM:+0930
TZOFFSETTO:+1030
TZNAME:ACDT
DTSTART:20230930T163000
END:DAYLIGHT
END:VTIMEZONE
BEGIN:VEVENT
DTSTART;TZID=Australia/Adelaide:20230608T050000
DTEND;TZID=Australia/Adelaide:20230608T183000
DTSTAMP:20260424T200113
CREATED:20230505T003325Z
LAST-MODIFIED:20230606T050413Z
UID:240985-1686200400-1686249000@www.portnoarps.sa.edu.au
SUMMARY:School Disco
DESCRIPTION:Thursday 8th June5pm – 6:30pmIn the gym \n\n\n\nWhen arriving at the Gym please ensure you sign your child in. \n\n\n\nPlease bring a named water bottle. \n\n\n\nAt 6:30pm each class will be seated in their class groups. Please do not leave with your child until they have been signed out. \n\n\n\nIf you would like to volunteer on the night and have all of your clearances in place\, please contact Vic Corbett via ClassDojo direct message.
URL:https://www.portnoarps.sa.edu.au/event/school-disco/
END:VEVENT
END:VCALENDAR